BEGIN:VCALENDAR
PRODID:NingEventWidget-v1
VERSION:2.0
METHOD:PUBLISH
BEGIN:VTIMEZONE
TZID:Europe/London
X-LIC-LOCATION:Europe/London
BEGIN:DAYLIGHT
TZOFFSETFROM:+0000
TZOFFSETTO:+0100
TZNAME:BST
DTSTART:19700329T010000
RRULE:FREQ=YEARLY;BYMONTH=3;BYDAY=-1SU
END:DAYLIGHT
BEGIN:STANDARD
TZOFFSETFROM:+0100
TZOFFSETTO:+0000
TZNAME:GMT
DTSTART:19701025T020000
RRULE:FREQ=YEARLY;BYMONTH=10;BYDAY=-1SU
END:STANDARD
END:VTIMEZONE
BEGIN:VEVENT
UID:6278630:Event:116709
DTSTAMP:20260425T022122Z
SUMMARY:Indigo World: Ali Ajel
DESCRIPTION:Ali Ajel is a recent graduate of the Institute of Contempo
 rary Music Performance in London. As a songwriter his songs are a comp
 elling and a diverse fusion between East and West: From the rich sound
 s and textures of the authentic Arabic folk and pop music, to the unmi
 stakable beats of the versatile Western popular music. This earthy org
 anic mixture is harmonized with the tender sound of the Arabic Oud, en
 chanting melodies and ethnic percussion.  Date: Wednesday 5th October 
   Doors Open: 7pm  Music starts: 8pm  Tickets: £10 (Limited Early Bir
 d Tickets Available at £8) at www.musicglue.com/karamel  Group discou
 nt available: 6 tickets for the price of 5 (Please call the Box Office
  to reserve on 020 8829 8962)\n\nFor more information visit https://bo
 wesandbounds.org/events/indigo-world-ali-ajel
DTSTART;TZID=Europe/London:20161005T190000
DTEND;TZID=Europe/London:20161005T230000
CATEGORIES:"'music'", "'indigo", "world'", "'karamel'", "'music", at, 
 "karamel'", "'world", "music'", "night'", "'wood", "green'", "'whats",
  "on'", on, "harringay'"
LOCATION:Karamel
WEBSITE:http://karamelrestaurant.com/event/indigo-world-ali-ajel/
URL:http://karamelrestaurant.com/event/indigo-world-ali-ajel/
CONTACT:0208 829 8989
ORGANIZER:Karamel
ATTACH;FMTTYPE="image/jpeg":http://storage.ning.com/topology/rest/1.0/
 file/get/2287316133?profile=original
ATTENDEE;ROLE=REQ-PARTICIPANT;PARTSTAT=ACCEPTED;RSVP=TRUE;CN="Events a
 t Karamel":https://bowesandbounds.org/profile/PhilSherman
END:VEVENT
END:VCALENDAR
