BEGIN:VCALENDAR
PRODID:NingEventWidget-v1
VERSION:2.0
METHOD:PUBLISH
BEGIN:VTIMEZONE
TZID:Europe/London
X-LIC-LOCATION:Europe/London
BEGIN:DAYLIGHT
TZOFFSETFROM:+0000
TZOFFSETTO:+0100
TZNAME:BST
DTSTART:19700329T010000
RRULE:FREQ=YEARLY;BYMONTH=3;BYDAY=-1SU
END:DAYLIGHT
BEGIN:STANDARD
TZOFFSETFROM:+0100
TZOFFSETTO:+0000
TZNAME:GMT
DTSTART:19701025T020000
RRULE:FREQ=YEARLY;BYMONTH=10;BYDAY=-1SU
END:STANDARD
END:VTIMEZONE
BEGIN:VEVENT
UID:6278630:Event:250434
DTSTAMP:20260423T150757Z
SUMMARY:Ingham Brothers Quintet
DESCRIPTION:\nRory Ingham - trombone Dominic Ingham - violin and voice
  Piano – Will Barry Adam King - bass Mark Taylor - drums\n“The ide
 a is simply playing the music we love and have grown up with which is 
 steeped in the history of jazz from 1918 to 2025, alongside some origi
 nal music of ours. It’s a deep musical relationship that has existed
  intensely for over 20 years and will be a very engaging and uplifting
  night of music!”\nMusic includes composers such as Thelonious Monk,
  Oliver Nelson, John Coltrane, Rory/Dominic Ingham and particularly gr
 eat songbook tunes. It’ll be a swinging affair!\nAbout Rory\n“effo
 rtless virtuosity” Jazzwise (EU) “richly melodic” London Jazz Ne
 ws “the trombonist showed splendid richness of sound and an unlimite
 d imagination” La Vanguardia (ES) “Virtuosic trombone playing...if
  his name appears on a billboard near you, you won’t regret buying t
 hat front row seat\" British Trombone Society\nAbout Dominic :\n'The a
 bility of Dominic becomes immediately apparent as his violin skilfully
  soars above a slow burning groover' - Jazzwise 'A rare treat...should
  be heard live whenever possible' - Kit Downes 'A fluid, masterly viol
 in solo' - All About Jazz\nKaramel - 4 Coburg Road, London N22 6UJ. Th
 e Karamel vegan kitchen will be serving food until 9.30pm. Email karam
 el8775@gmail.com to book a table for groups of 3+.\nDoors open 7pm, mu
 sic starts at 8pm.\n£10 OTD, £7.50 earlybird, £5 Students\n\nFor mo
 re information visit https://bowesandbounds.org/events/ingham-brothers
 -quintet
DTSTART;TZID=Europe/London:20250605T190000
DTEND;TZID=Europe/London:20250605T220000
CATEGORIES:jazz, veganvenue, veganfood, livemusic
LOCATION:karamel, 4 Coburg Road, Wood Green, London N22 6UJ
WEBSITE:https://www.musicglue.com/karamel/events/2025-06-05-ingham-bro
 thers-quintet-karamel
URL:https://www.musicglue.com/karamel/events/2025-06-05-ingham-brother
 s-quintet-karamel
CONTACT:
ORGANIZER;CN="Collage Artspaces":https://bowesandbounds.org/profile/Co
 llage_Arts
ATTACH;FMTTYPE="image/jpeg":https://storage.ning.com/topology/rest/1.0
 /file/get/13541121694?profile=original
ATTENDEE;ROLE=REQ-PARTICIPANT;PARTSTAT=ACCEPTED;RSVP=TRUE;CN="Collage 
 Artspaces":https://bowesandbounds.org/profile/Collage_Arts
END:VEVENT
END:VCALENDAR
