BEGIN:VCALENDAR
PRODID:NingEventWidget-v1
VERSION:2.0
METHOD:PUBLISH
BEGIN:VTIMEZONE
TZID:Europe/London
X-LIC-LOCATION:Europe/London
BEGIN:DAYLIGHT
TZOFFSETFROM:+0000
TZOFFSETTO:+0100
TZNAME:BST
DTSTART:19700329T010000
RRULE:FREQ=YEARLY;BYMONTH=3;BYDAY=-1SU
END:DAYLIGHT
BEGIN:STANDARD
TZOFFSETFROM:+0100
TZOFFSETTO:+0000
TZNAME:GMT
DTSTART:19701025T020000
RRULE:FREQ=YEARLY;BYMONTH=10;BYDAY=-1SU
END:STANDARD
END:VTIMEZONE
BEGIN:VEVENT
UID:6278630:Event:109858
DTSTAMP:20260424T000530Z
SUMMARY:Insect Talk by Dan Hackett
DESCRIPTION:Friends of Alexandra Park Insect Talk by Dan Hackett   We
 dnesday  March 16th\n\nSo far this year our talks have covered swifts
  and wildflowers, and now we come to insects, which are of course vit
 al to the survival of both birds and plants. Local entomologist Dan H
 ackett will give us a quick look across the main types of insects whic
 h live in our area, bearing in mind that the 2010 BioBlitz in the Park
  found 212 types of insect and 26 types of arachnid.The talk is free 
 and will start at 8pm in the Park Information Centre in The Grove, but
  come any time after 7.30pm and enjoy a drink before we start.  Place
 s are limited so please email allyparkn10@gmail.com to book a seat, 
 and say if you need directions to the Park Information Centre.\nLink t
 o all Events coming up in the Park\n\n\n\n\n\n\n\nFor more information
  visit https://bowesandbounds.org/events/insect-talk-by-dan-hackett
DTSTART;TZID=Europe/London:20160316T193000
DTEND;TZID=Europe/London:20160316T213000
CATEGORIES:insect, talk, "friends of parks"
LOCATION:Alexandra Park
WEBSITE:http://www.friendsofalexandrapark.org
URL:http://www.friendsofalexandrapark.org
CONTACT:
ORGANIZER;CN="Stephen Middleton":https://bowesandbounds.org/profile/St
 ephenMiddleton
ATTACH;FMTTYPE="image/jpeg":http://storage.ning.com/topology/rest/1.0/
 file/get/2287306057?profile=original
ATTENDEE;ROLE=REQ-PARTICIPANT;PARTSTAT=ACCEPTED;RSVP=TRUE;CN="Stephen 
 Middleton":https://bowesandbounds.org/profile/StephenMiddleton
END:VEVENT
END:VCALENDAR
