BEGIN:VCALENDAR
PRODID:NingEventWidget-v1
VERSION:2.0
METHOD:PUBLISH
BEGIN:VTIMEZONE
TZID:Europe/London
X-LIC-LOCATION:Europe/London
BEGIN:DAYLIGHT
TZOFFSETFROM:+0000
TZOFFSETTO:+0100
TZNAME:BST
DTSTART:19700329T010000
RRULE:FREQ=YEARLY;BYMONTH=3;BYDAY=-1SU
END:DAYLIGHT
BEGIN:STANDARD
TZOFFSETFROM:+0100
TZOFFSETTO:+0000
TZNAME:GMT
DTSTART:19701025T020000
RRULE:FREQ=YEARLY;BYMONTH=10;BYDAY=-1SU
END:STANDARD
END:VTIMEZONE
BEGIN:VEVENT
UID:6278630:Event:136604
DTSTAMP:20260423T155911Z
SUMMARY:Inspire Your Writing with Sonia Lambert (Haringey Literature L
 ive)
DESCRIPTION:Are you stuck in a rut with your writing? Need some inspir
 ing exercises to shake up your creativity? Then this is the class for 
 you!\nInspire Your Writing with Sonia Lambert from Haringey Literature
  Live\n‘No-one else can write your novel for you, however many ‘co
 urses’ you may do and what I got out of this particular class was th
 e opportunity to look a bit more closely at key moments in writing a n
 ovel (beginnings, turning points etc) and enjoy hearing and discussing
  how various members of the group tackled them. All this, of course, g
 uided by Sonia’s great input which made it flow and spark us off.’
  Jessica, Novel Writing Student\n \nThursday mornings, 10.30am to 1pm
 ; dates May 16, 23 (half term), June 6, 13, 20, 27; cost £99; venue W
 riting Room \nThis course is for writers at any level who wish to gen
 erate lots of new ideas and material. This fun and playful course will
  use different creative writing exercises and prompts to get you worki
 ng, in a friendly and supportive environment. We will set out from a n
 ew starting point each week, and experiment with different techniques 
 and ways into prose writing. Themes will be:\nWeek1) Place Week2) Peop
 le Week3) ObjectsWeek4) FoodWeek5) GapsWeek 6) Journeys\n \nhttp://ha
 ringeyliteraturelive.com/summer-courses/ -\n\nFor more information vis
 it https://bowesandbounds.org/events/inspire-your-writing-with-sonia-l
 ambert-haringey-literature-live
DTSTART;TZID=Europe/London:20190516T180000
DTEND;TZID=Europe/London:20190627T190000
CATEGORIES:"creative writing course"
LOCATION:Woodgreen N22
WEBSITE:http://haringeyliteraturelive.com/summer-courses/
URL:http://haringeyliteraturelive.com/summer-courses/
CONTACT:
ORGANIZER;CN="Giovanna Iozzi":https://bowesandbounds.org/profile/Giova
 nnaIozzi
ATTACH;FMTTYPE="image/jpeg":https://storage.ning.com/topology/rest/1.0
 /file/get/2225071931?profile=original
ATTENDEE;ROLE=REQ-PARTICIPANT;PARTSTAT=ACCEPTED;RSVP=TRUE;CN="Giovanna
  Iozzi":https://bowesandbounds.org/profile/GiovannaIozzi
END:VEVENT
END:VCALENDAR
