BEGIN:VCALENDAR
PRODID:NingEventWidget-v1
VERSION:2.0
METHOD:PUBLISH
BEGIN:VTIMEZONE
TZID:Europe/London
X-LIC-LOCATION:Europe/London
BEGIN:DAYLIGHT
TZOFFSETFROM:+0000
TZOFFSETTO:+0100
TZNAME:BST
DTSTART:19700329T010000
RRULE:FREQ=YEARLY;BYMONTH=3;BYDAY=-1SU
END:DAYLIGHT
BEGIN:STANDARD
TZOFFSETFROM:+0100
TZOFFSETTO:+0000
TZNAME:GMT
DTSTART:19701025T020000
RRULE:FREQ=YEARLY;BYMONTH=10;BYDAY=-1SU
END:STANDARD
END:VTIMEZONE
BEGIN:VEVENT
UID:6278630:Event:235070
DTSTAMP:20260422T153845Z
SUMMARY:Intensive General English Course
DESCRIPTION:Do you want to learn English, have fun, reach your goals a
 nd make friends from around the world?\n\n\nJoin our fun and friendly 
 classes with a native English teacher!\n\n\nTo book/ For more info: Ca
 ll Sureka on 07984 136 961 or email info@successenglishuk.com\n\n\nhtt
 ps://www.facebook.com/events/142521097811829\n\n\n\nFor more informati
 on visit https://bowesandbounds.org/events/intensive-general-english-c
 ourse
DTSTART;TZID=Europe/London:20210419T103000
DTEND;TZID=Europe/London:20210419T123000
CATEGORIES:online, english, classes
LOCATION:Online
WEBSITE:http://www.salsawithsureka.com
URL:http://www.salsawithsureka.com
CONTACT:+447984136961
ORGANIZER;CN="Sureka Fernando":https://bowesandbounds.org/profile/Sure
 kaFernando
ATTACH;FMTTYPE="image/jpeg":https://storage.ning.com/topology/rest/1.0
 /file/get/8790006067?profile=original
ATTENDEE;ROLE=REQ-PARTICIPANT;PARTSTAT=ACCEPTED;RSVP=TRUE;CN="Sureka F
 ernando":https://bowesandbounds.org/profile/SurekaFernando
END:VEVENT
END:VCALENDAR
