BEGIN:VCALENDAR
PRODID:NingEventWidget-v1
VERSION:2.0
METHOD:PUBLISH
BEGIN:VTIMEZONE
TZID:Europe/London
X-LIC-LOCATION:Europe/London
BEGIN:DAYLIGHT
TZOFFSETFROM:+0000
TZOFFSETTO:+0100
TZNAME:BST
DTSTART:19700329T010000
RRULE:FREQ=YEARLY;BYMONTH=3;BYDAY=-1SU
END:DAYLIGHT
BEGIN:STANDARD
TZOFFSETFROM:+0100
TZOFFSETTO:+0000
TZNAME:GMT
DTSTART:19701025T020000
RRULE:FREQ=YEARLY;BYMONTH=10;BYDAY=-1SU
END:STANDARD
END:VTIMEZONE
BEGIN:VEVENT
UID:6278630:Event:103289
DTSTAMP:20260425T174136Z
SUMMARY:Interfaith Week Special Event
DESCRIPTION:\n\nEntry is free but for security reasons your place need
 s to be pre-booked\nThere will be a very short talk by each faith foll
 owed by a question and answer session. There will also be a short tou
 r of the synagogue and light refreshments.\nBus Route 121passes the do
 or (alight at the bus stop for \"Merrivale\")\n\nFor more information 
 visit https://bowesandbounds.org/events/interfaith-week-special-event
DTSTART;TZID=Europe/London:20151118T200000
DTEND;TZID=Europe/London:20151118T220000
CATEGORIES:interfaith
LOCATION:Southgate Progressive Synagogue
WEBSITE:
URL:
CONTACT:
ORGANIZER;CN="Donald Smith":https://bowesandbounds.org/profile/DonaldS
 mith
ATTACH;FMTTYPE="image/jpeg":
ATTENDEE;ROLE=REQ-PARTICIPANT;PARTSTAT=ACCEPTED;RSVP=TRUE;CN="Donald S
 mith":https://bowesandbounds.org/profile/DonaldSmith
END:VEVENT
END:VCALENDAR
