BEGIN:VCALENDAR
PRODID:NingEventWidget-v1
VERSION:2.0
METHOD:PUBLISH
BEGIN:VTIMEZONE
TZID:Europe/London
X-LIC-LOCATION:Europe/London
BEGIN:DAYLIGHT
TZOFFSETFROM:+0000
TZOFFSETTO:+0100
TZNAME:BST
DTSTART:19700329T010000
RRULE:FREQ=YEARLY;BYMONTH=3;BYDAY=-1SU
END:DAYLIGHT
BEGIN:STANDARD
TZOFFSETFROM:+0100
TZOFFSETTO:+0000
TZNAME:GMT
DTSTART:19701025T020000
RRULE:FREQ=YEARLY;BYMONTH=10;BYDAY=-1SU
END:STANDARD
END:VTIMEZONE
BEGIN:VEVENT
UID:6278630:Event:109445
DTSTAMP:20260424T002137Z
SUMMARY:International Women's Day celebration at the Hub
DESCRIPTION:Supporting Women's Journey through Life's Landmarks\nSemin
 ars, Workshops, Activities and Discussion to inform, support and raise
  your spirits\nPLUS a thought-provoking Art Exhibition\nFor more info 
 contact: walordshiprec@gmail.com or (0208) 885-5684\n(see www.lordshi
 phub.org.uk for directions to the Hub)\n\nFor more information visit 
 https://bowesandbounds.org/events/international-women-s-day-celebratio
 n-at-the-hub
DTSTART;TZID=Europe/London:20160312T130000
DTEND;TZID=Europe/London:20160312T170000
CATEGORIES:"women's day"
LOCATION:Lordship Hub
WEBSITE:http://www.lordshiphub.org.uk
URL:http://www.lordshiphub.org.uk
CONTACT:(0208) 885-5684
ORGANIZER;CN="Lordship Hub Coop":https://bowesandbounds.org/profile/Lo
 rdshipHubCoop
ATTACH;FMTTYPE="image/jpeg":
ATTENDEE;ROLE=REQ-PARTICIPANT;PARTSTAT=ACCEPTED;RSVP=TRUE;CN="Lordship
  Hub Coop":https://bowesandbounds.org/profile/LordshipHubCoop
END:VEVENT
END:VCALENDAR
