BEGIN:VCALENDAR
PRODID:NingEventWidget-v1
VERSION:2.0
METHOD:PUBLISH
BEGIN:VTIMEZONE
TZID:Europe/London
X-LIC-LOCATION:Europe/London
BEGIN:DAYLIGHT
TZOFFSETFROM:+0000
TZOFFSETTO:+0100
TZNAME:BST
DTSTART:19700329T010000
RRULE:FREQ=YEARLY;BYMONTH=3;BYDAY=-1SU
END:DAYLIGHT
BEGIN:STANDARD
TZOFFSETFROM:+0100
TZOFFSETTO:+0000
TZNAME:GMT
DTSTART:19701025T020000
RRULE:FREQ=YEARLY;BYMONTH=10;BYDAY=-1SU
END:STANDARD
END:VTIMEZONE
BEGIN:VEVENT
UID:6278630:Event:135410
DTSTAMP:20260424T065109Z
SUMMARY:International Women's Day Event 2019.
DESCRIPTION:The Community Hub is hosting International Women’s D
 ay 2019 on 2 March.\n  This will be the 2nd time in the 35 years hist
 ory of the Community Hub/ Asian Centre that IWD will be celebrated at 
 the Centre. If you did attend the last programme in 2017 you will reme
 mber how fun filled and informative the day was.\nSo please put Satur
 day 2nd March 2019 in your diary. (see attached is the poster for det
 ails).\nPlease feel free to pass on the information to anyone you thin
 k may be interested in the event.\nDon't forget to book your tickets w
 ell in advance.\nThanks and look forward to seeing you on the day!\nHe
 lp us make this day as successful as the last one.\n\nFor more informa
 tion visit https://bowesandbounds.org/events/international-women-s-day
 -event-2019
DTSTART;TZID=Europe/London:20190302T120000
DTEND;TZID=Europe/London:20190302T160000
CATEGORIES:"#entertainment", "#fun", "#iwd2019", "#dance", "#haringey"
 , "#information", "#social"
LOCATION:The Community Hub Haringey
WEBSITE:http://thecommunityhub.org.uk/
URL:http://thecommunityhub.org.uk/
CONTACT:02088896938
ORGANIZER;CN="The Community Hub Haringey":https://bowesandbounds.org/p
 rofile/TheCommunityHubHaringey
ATTACH;FMTTYPE="image/jpeg":https://storage.ning.com/topology/rest/1.0
 /file/get/1172746598?profile=original
ATTENDEE;ROLE=REQ-PARTICIPANT;PARTSTAT=ACCEPTED;RSVP=TRUE;CN="The Comm
 unity Hub Haringey":https://bowesandbounds.org/profile/TheCommunityHub
 Haringey
END:VEVENT
END:VCALENDAR
