BEGIN:VCALENDAR
PRODID:NingEventWidget-v1
VERSION:2.0
METHOD:PUBLISH
BEGIN:VTIMEZONE
TZID:Europe/London
X-LIC-LOCATION:Europe/London
BEGIN:DAYLIGHT
TZOFFSETFROM:+0000
TZOFFSETTO:+0100
TZNAME:BST
DTSTART:19700329T010000
RRULE:FREQ=YEARLY;BYMONTH=3;BYDAY=-1SU
END:DAYLIGHT
BEGIN:STANDARD
TZOFFSETFROM:+0100
TZOFFSETTO:+0000
TZNAME:GMT
DTSTART:19701025T020000
RRULE:FREQ=YEARLY;BYMONTH=10;BYDAY=-1SU
END:STANDARD
END:VTIMEZONE
BEGIN:VEVENT
UID:6278630:Event:73160
DTSTAMP:20260422T205243Z
SUMMARY:International Women's Day Event
DESCRIPTION:\n\nFor more information visit https://bowesandbounds.org/
 events/international-women-s-day-event
DTSTART;TZID=Europe/London:20140308T120000
DTEND;TZID=Europe/London:20140308T180000
CATEGORIES:international, "women's", day, event, lordship, rec, n17, w
 orkshop
LOCATION:The Eco Hub, Lordship Rec
WEBSITE:
URL:
CONTACT:
ORGANIZER;CN="Women's Association Lordship Rec":https://bowesandbounds
 .org/profile/WomensAssociationLordshipRec
ATTACH;FMTTYPE="image/jpeg":http://storage.ning.com/topology/rest/1.0/
 file/get/2287259909?profile=original
ATTENDEE;ROLE=REQ-PARTICIPANT;PARTSTAT=ACCEPTED;RSVP=TRUE;CN="Women's 
 Association Lordship Rec":https://bowesandbounds.org/profile/WomensAss
 ociationLordshipRec
END:VEVENT
END:VCALENDAR
