BEGIN:VCALENDAR
PRODID:NingEventWidget-v1
VERSION:2.0
METHOD:PUBLISH
BEGIN:VTIMEZONE
TZID:Europe/London
X-LIC-LOCATION:Europe/London
BEGIN:DAYLIGHT
TZOFFSETFROM:+0000
TZOFFSETTO:+0100
TZNAME:BST
DTSTART:19700329T010000
RRULE:FREQ=YEARLY;BYMONTH=3;BYDAY=-1SU
END:DAYLIGHT
BEGIN:STANDARD
TZOFFSETFROM:+0100
TZOFFSETTO:+0000
TZNAME:GMT
DTSTART:19701025T020000
RRULE:FREQ=YEARLY;BYMONTH=10;BYDAY=-1SU
END:STANDARD
END:VTIMEZONE
BEGIN:VEVENT
UID:6278630:Event:140219
DTSTAMP:20260422T194833Z
SUMMARY:International Womens Day Event 14.03.20
DESCRIPTION:International Womens Day event at The Community Hub Haring
 ey (8 Caxton Road, Wood Green, London N22 6TB) with guest speakers, mu
 sic & dance, open mic and raffle draw. Come enjoy a day out with the w
 hole family.Tickets can be booked in advance at £3, or on the door at
  £5.Includes light snacks / refreshments.\n\nFor more information vis
 it https://bowesandbounds.org/events/international-womens-day-event-14
 -03-20
DTSTART;TZID=Europe/London:20200314T140000
DTEND;TZID=Europe/London:20200314T170000
CATEGORIES:international, womens, day, event, march, 2020
LOCATION:The Community Hub Haringey
WEBSITE:http://www.thecommunityhub.org.uk
URL:http://www.thecommunityhub.org.uk
CONTACT:02088896938
ORGANIZER;CN="The Community Hub Haringey":https://bowesandbounds.org/p
 rofile/TheCommunityHubHaringey
ATTACH;FMTTYPE="image/jpeg":https://storage.ning.com/topology/rest/1.0
 /file/get/3841605704?profile=original
ATTENDEE;ROLE=REQ-PARTICIPANT;PARTSTAT=ACCEPTED;RSVP=TRUE;CN="The Comm
 unity Hub Haringey":https://bowesandbounds.org/profile/TheCommunityHub
 Haringey
END:VEVENT
END:VCALENDAR
