BEGIN:VCALENDAR
PRODID:NingEventWidget-v1
VERSION:2.0
METHOD:PUBLISH
BEGIN:VTIMEZONE
TZID:Europe/London
X-LIC-LOCATION:Europe/London
BEGIN:DAYLIGHT
TZOFFSETFROM:+0000
TZOFFSETTO:+0100
TZNAME:BST
DTSTART:19700329T010000
RRULE:FREQ=YEARLY;BYMONTH=3;BYDAY=-1SU
END:DAYLIGHT
BEGIN:STANDARD
TZOFFSETFROM:+0100
TZOFFSETTO:+0000
TZNAME:GMT
DTSTART:19701025T020000
RRULE:FREQ=YEARLY;BYMONTH=10;BYDAY=-1SU
END:STANDARD
END:VTIMEZONE
BEGIN:VEVENT
UID:6278630:Event:239648
DTSTAMP:20260421T221419Z
SUMMARY:Introduction to Patchwork, Saturday 16th, April 10:30-1:30, £
 35.00
DESCRIPTION:This is a modern take on an old favourite. Patchwork is a 
 traditional technique that uses bits of left over fabric to create qui
 lts or cushions covers but these days it is used for so much more. You
  will be amazed how colourful, small bits of fabric can come together,
  up-cycled to create things of beauty. They can also be used to make u
 p skirts, jackets and even accessories such as scarves, collars and je
 wellery or used to make inserts and patches to mend, giving pops of co
 lour and updating clothing, breathing new life into old favourites . W
 ith patchwork recycling bits of old and unused fabric becomes easy and
  very fashionable. Our experienced seamstress Pat Stevens will be teac
 hing you.\n\nWhat you will learn:\nThis is an Introduction to patchwor
 k course for sewers/ quilters starting out or continuing your journey 
 in patchwork with a machine sewing. In this course you will learn the 
 basics of how to make a patchwork piece that can be used within many o
 ther projects. You will ideally need be proficient on a sewing machine
 .\nWe have Janome sewing machines for you to use, cutting mats , sciss
 ors and rotary cutters. Tea and light refreshments will be available. 
 Should you wish to continue your journey we offer a Patchwork class Th
 ursdays with Pat that you can sign up for at a later date.\nWhat you n
 eed to bring:\nBring along fabrics from your stash at home or buy fabr
 ic from our selection in store which is also available pre cut strips.
 \nCLASS SIZE: 6\nDURATION: 2 hours\nDATE & TIME: Saturday 16th, April 
 10:30-1:30\nPRICE: £35\nLOCATION: 364 Green Lanes, Palmers Green, N13
  5XL (within the Post Office entrance)\nPlease ensure you have read fu
 lly our terms and conditions.\nWe look forward to seeing you soon!\nTh
 e StitchN13 Team x\n\n\n\n\n\n\nFor more information visit https://bow
 esandbounds.org/events/introduction-to-patchwork-saturday-16th-april-1
 0-30-1-30-35-00
DTSTART;TZID=Europe/London:20220416T103000
DTEND;TZID=Europe/London:20220416T133000
CATEGORIES:sewing, class
LOCATION:Stitch Crafts and Classes, 364 Green Lanes, (inside Post Offi
 ce entrance) Palmers Green, N13 5XL
WEBSITE:https://www.stitch.org.uk/
URL:https://www.stitch.org.uk/
CONTACT:07903 614726
ORGANIZER;CN="Suzanne Kelly":https://bowesandbounds.org/profile/Suzann
 eKelly
ATTACH;FMTTYPE="image/jpeg":https://storage.ning.com/topology/rest/1.0
 /file/get/10263652867?profile=original
ATTENDEE;ROLE=REQ-PARTICIPANT;PARTSTAT=ACCEPTED;RSVP=TRUE;CN="Suzanne 
 Kelly":https://bowesandbounds.org/profile/SuzanneKelly
END:VEVENT
END:VCALENDAR
