BEGIN:VCALENDAR
PRODID:NingEventWidget-v1
VERSION:2.0
METHOD:PUBLISH
BEGIN:VTIMEZONE
TZID:Europe/London
X-LIC-LOCATION:Europe/London
BEGIN:DAYLIGHT
TZOFFSETFROM:+0000
TZOFFSETTO:+0100
TZNAME:BST
DTSTART:19700329T010000
RRULE:FREQ=YEARLY;BYMONTH=3;BYDAY=-1SU
END:DAYLIGHT
BEGIN:STANDARD
TZOFFSETFROM:+0100
TZOFFSETTO:+0000
TZNAME:GMT
DTSTART:19701025T020000
RRULE:FREQ=YEARLY;BYMONTH=10;BYDAY=-1SU
END:STANDARD
END:VTIMEZONE
BEGIN:VEVENT
UID:6278630:Event:103219
DTSTAMP:20260419T221815Z
SUMMARY:It's Beginning to Look A Lot Like .. the Vintage & Designers' 
 Fair at the Castle
DESCRIPTION:Shop early for Christmas! More than 40 unique stalls selli
 ng a fabulous range of vintage clothes, accessories, jewellery, toys, 
 prints and more.\nAlso, vintage-inspired hand-made gifts, crafts, jam,
  chutneys and cakes - lots of locally made products – plus the café
  will be open all day for tea, coffee, biscuits, sandwiches and some l
 ovely cakes.\n\nFor more information visit https://bowesandbounds.org/
 events/it-s-beginning-to-look-a-lot-like-the-vintage-designers-fair-at
DTSTART;TZID=Europe/London:20151128T103000
DTEND;TZID=Europe/London:20151128T163000
CATEGORIES:vintage, fair, crafts, christmas
LOCATION:Bruce Castle Museum, Lordship Lane, Tottenham
WEBSITE:http://www.haringey.gov.uk/brucecastlemuseum
URL:http://www.haringey.gov.uk/brucecastlemuseum
CONTACT:020 8808 8772
ORGANIZER;CN="Deborah Hedgecock":https://bowesandbounds.org/profile/De
 borahHedgecock
ATTACH;FMTTYPE="image/jpeg":http://storage.ning.com/topology/rest/1.0/
 file/get/2287299099?profile=original
ATTENDEE;ROLE=REQ-PARTICIPANT;PARTSTAT=ACCEPTED;RSVP=TRUE;CN="Deborah 
 Hedgecock":https://bowesandbounds.org/profile/DeborahHedgecock
END:VEVENT
END:VCALENDAR
