BEGIN:VCALENDAR
PRODID:NingEventWidget-v1
VERSION:2.0
METHOD:PUBLISH
BEGIN:VTIMEZONE
TZID:Europe/London
X-LIC-LOCATION:Europe/London
BEGIN:DAYLIGHT
TZOFFSETFROM:+0000
TZOFFSETTO:+0100
TZNAME:BST
DTSTART:19700329T010000
RRULE:FREQ=YEARLY;BYMONTH=3;BYDAY=-1SU
END:DAYLIGHT
BEGIN:STANDARD
TZOFFSETFROM:+0100
TZOFFSETTO:+0000
TZNAME:GMT
DTSTART:19701025T020000
RRULE:FREQ=YEARLY;BYMONTH=10;BYDAY=-1SU
END:STANDARD
END:VTIMEZONE
BEGIN:VEVENT
UID:6278630:Event:252051
DTSTAMP:20260424T160707Z
SUMMARY:Jack Devonshire Septet
DESCRIPTION:Doors open 7pm, music from 8pm.\nJACK DEVONSHIRE SEPTET\nA
 lto Saxophone - Jack Devonshire\nTenor Saxophone - Cam Rossi\nTrumpet 
 - Tom Stringer\nTrombone - Joe Evans\nPiano - Jude Lane\nDouble Bass -
  James Leaver-Whitfield\nDrums - Jonah Phillips\nKaramel - 4 Coburg Ro
 ad, London N22 6UJ. The Karamel vegan kitchen will be serving food unt
 il 9.30pm. Email karamel8775@gmail.com to book a table for groups of
  3+.\nDoors open 7pm, music starts at 8pm.\n\nFor more information vis
 it https://bowesandbounds.org/events/jack-devonshire-septet
DTSTART;TZID=Europe/London:20251017T200000
DTEND;TZID=Europe/London:20251017T220000
CATEGORIES:jazz, veganvenue, veganfood, livemusic
LOCATION:Karamel
WEBSITE:https://www.musicglue.com/karamel
URL:https://www.musicglue.com/karamel
CONTACT:08000092970
ORGANIZER;CN="Collage Artspaces":https://bowesandbounds.org/profile/Co
 llage_Arts
ATTACH;FMTTYPE="image/jpeg":https://storage.ning.com/topology/rest/1.0
 /file/get/13741468695?profile=original
ATTENDEE;ROLE=REQ-PARTICIPANT;PARTSTAT=ACCEPTED;RSVP=TRUE;CN="Collage 
 Artspaces":https://bowesandbounds.org/profile/Collage_Arts
END:VEVENT
END:VCALENDAR
