BEGIN:VCALENDAR
PRODID:NingEventWidget-v1
VERSION:2.0
METHOD:PUBLISH
BEGIN:VTIMEZONE
TZID:Europe/London
X-LIC-LOCATION:Europe/London
BEGIN:DAYLIGHT
TZOFFSETFROM:+0000
TZOFFSETTO:+0100
TZNAME:BST
DTSTART:19700329T010000
RRULE:FREQ=YEARLY;BYMONTH=3;BYDAY=-1SU
END:DAYLIGHT
BEGIN:STANDARD
TZOFFSETFROM:+0100
TZOFFSETTO:+0000
TZNAME:GMT
DTSTART:19701025T020000
RRULE:FREQ=YEARLY;BYMONTH=10;BYDAY=-1SU
END:STANDARD
END:VTIMEZONE
BEGIN:VEVENT
UID:6278630:Event:243902
DTSTAMP:20260420T175550Z
SUMMARY:Jakub Klimiuk Quintet
DESCRIPTION:Featuring in-demand musicians, associated with the Guildha
 ll School of Music & Drama and Trinity Laban, Jakub Klimiuk Quintet co
 mbines modern jazz with influences from Scandinavian improvised music,
  Eastern European folk and contemporary classical pieces. The resultan
 t repertoire, consisting of original compositions, is a highly energet
 ic mix of scripted forms and free improvisation, drawing from various 
 genres but at the same time staying deeply rooted in the jazz traditio
 n.\nMembers of the band have performed at venues like Vortex, 606 or R
 onnie Scott’s and have individually worked with Martin Speake, Tom C
 hallenger, NYJO, Morsyca, Donovan Haffner and Húrra among others.\nQu
 intet’s EP entitled „Reluctance” is a reflection on the uncertai
 nty of current times, a way to express intertwining feelings of hope a
 nd skepticism. The album takes listeners on a journey through differen
 t sound worlds, from modern jazz inspired by New York scene to hip-hop
  grooves.\nLine up:\nSimeon May – Tenor saxophone\nJakub Klimiuk –
  Guitar/compositions\nCody Moss – Piano\nHarry Pearce – Double bas
 s\nAdam Merrell – Drums\nDoors open at 7pm, music starts at 8pm. Ple
 ase book a ticket in advance.\nTickets £10\nwww.musicglue.com/karamel
 \nVENUE: 4 Coburg Rd, Wood Green, London N22 6UJ\n\nFor more informati
 on visit https://bowesandbounds.org/events/jakub-klimiuk-quintet
DTSTART;TZID=Europe/London:20230323T200000
DTEND;TZID=Europe/London:20230323T220000
CATEGORIES:jazz, music, live
LOCATION:Karamel, 4 Coburg Road N22 6UJ
WEBSITE:https://www.musicglue.com/karamel
URL:https://www.musicglue.com/karamel
CONTACT:
ORGANIZER;CN="Collage Artspaces":https://bowesandbounds.org/profile/Co
 llage_Arts
ATTACH;FMTTYPE="image/jpeg":https://storage.ning.com/topology/rest/1.0
 /file/get/10997514654?profile=original
ATTENDEE;ROLE=REQ-PARTICIPANT;PARTSTAT=ACCEPTED;RSVP=TRUE;CN="Collage 
 Artspaces":https://bowesandbounds.org/profile/Collage_Arts
END:VEVENT
END:VCALENDAR
