BEGIN:VCALENDAR
PRODID:NingEventWidget-v1
VERSION:2.0
METHOD:PUBLISH
BEGIN:VTIMEZONE
TZID:Europe/London
X-LIC-LOCATION:Europe/London
BEGIN:DAYLIGHT
TZOFFSETFROM:+0000
TZOFFSETTO:+0100
TZNAME:BST
DTSTART:19700329T010000
RRULE:FREQ=YEARLY;BYMONTH=3;BYDAY=-1SU
END:DAYLIGHT
BEGIN:STANDARD
TZOFFSETFROM:+0100
TZOFFSETTO:+0000
TZNAME:GMT
DTSTART:19701025T020000
RRULE:FREQ=YEARLY;BYMONTH=10;BYDAY=-1SU
END:STANDARD
END:VTIMEZONE
BEGIN:VEVENT
UID:6278630:Event:93732
DTSTAMP:20260426T013113Z
SUMMARY:Jazz at Karamel: Art Themen
DESCRIPTION:Featuring: Art Themen, Don Weller (tenor saxes), Pete Whit
 taker (organ), Stu Butterfield (drums).\n\nThis is an exciting combina
 tion, featuring two of the great British tenor saxophonists. Art Them
 en has appeared with everyone, but his most long lasting gig (apart fr
 om his parallel career as an orthopaedic surgeon) is probably the 20 
 years or so he spent as a member of Stan Tracy’s Quartet.\n\nDon We
 ller’s is also a household name; he also appeared regularly with Sta
 n Tracy, led his band Major Surgery in the 70s and continues to lead h
 is own Quartet and Big Band. Pete Whittaker is a much in demand pianis
 t and organist whose recent associates include Theo travis, John Ether
 idge (Blue Spirits) and the Nigel Price Organ Trio. Stu Butterfield is
  the Karamel “House” drummer.\n\nDoors open at 7:00pm. Music Start
 s at 8:00pm.\n\nTickets: https://www.eventbrite.co.uk/e/jazz-at-karame
 l-art-themen-tickets-16141921923\n\nFor more information visit https:/
 /bowesandbounds.org/events/jazz-at-karamel-art-themen
DTSTART;TZID=Europe/London:20150416T190000
DTEND;TZID=Europe/London:20150416T223000
CATEGORIES:"live music"
LOCATION:Wood Green
WEBSITE:http://karamelrestaurant.com/event/jazz-at-karamel-art-themen
URL:http://karamelrestaurant.com/event/jazz-at-karamel-art-themen
CONTACT:020 8829 8989
ORGANIZER;CN="Collage Artspaces":https://bowesandbounds.org/profile/Co
 llage_Arts
ATTACH;FMTTYPE="image/jpeg":http://storage.ning.com/topology/rest/1.0/
 file/get/2287284141?profile=original
ATTENDEE;ROLE=REQ-PARTICIPANT;PARTSTAT=ACCEPTED;RSVP=TRUE;CN="Collage 
 Artspaces":https://bowesandbounds.org/profile/Collage_Arts
END:VEVENT
END:VCALENDAR
