BEGIN:VCALENDAR
PRODID:NingEventWidget-v1
VERSION:2.0
METHOD:PUBLISH
BEGIN:VTIMEZONE
TZID:Europe/London
X-LIC-LOCATION:Europe/London
BEGIN:DAYLIGHT
TZOFFSETFROM:+0000
TZOFFSETTO:+0100
TZNAME:BST
DTSTART:19700329T010000
RRULE:FREQ=YEARLY;BYMONTH=3;BYDAY=-1SU
END:DAYLIGHT
BEGIN:STANDARD
TZOFFSETFROM:+0100
TZOFFSETTO:+0000
TZNAME:GMT
DTSTART:19701025T020000
RRULE:FREQ=YEARLY;BYMONTH=10;BYDAY=-1SU
END:STANDARD
END:VTIMEZONE
BEGIN:VEVENT
UID:6278630:Event:130962
DTSTAMP:20260425T020926Z
SUMMARY:Jazz at Karamel: Babelfish
DESCRIPTION:Brigitte Beraha (Vocals), Barry Green (Piano), Chris Laure
 nce (Bass), Paul Clarvis (Drums)  A collaboration between two of the U
 K’s finest jazz artists Barry Green-piano and Brigitte Beraha-voice,
  Babelfish also features legends Muswell Hill resident Chris Laurence-
 double bass and Paul Clarvis-drums/percussion who stems from Enfield.
  All musicians are nationally and highly acclaimed and we are honoure
 d to have these well established musicians perform in North London's b
 est jazz venue.  Between them they have played or recorded with artist
 s as diverse as Bobby Wellins, BBC Concert Orchestra, Evan Parker, Ken
 ny Wheeler and Stevie Wonder.  Their albums 'Babelfish' and 'Chasing R
 ainbows' received rave reviews and this gig marks the first concert of
  their 20-date UK tour which will culminate into the recording of thei
 r much anticipated third album: a journey into their favourite books t
 hrough the vehicles of jazz, latin, classical, folk and improvised mus
 ic.  “Babelfish are a definition of a contemporary jazz class act.
  The Guardian  \"It’s a pleasure to enter the original music langua
 ge of this band: a world of playfulness and beauty, where anything cou
 ld happen- you’re caught up in their sense of mystery and imaginatio
 n.” LondonJazz  Tickets available on the door at £10 per person.  D
 oors open at 6pm.  Live music starts at 8pm – 2 sets of an hour with
  a short interval. Kitchen is open from 7pm until 10pm.  Come early an
 d enjoy our Happy Hour Buy One Get One Half Price on drinks offer 5-7p
 m. Mention BOWESANDBOUNDS at the Bar!\nKaramel is a unique vegan space
  in the heart of Wood Green’s Cultural Quarter and is the centre poi
 nt of the Chocolate Factory studios. Enjoy good quality fresh, afforda
 ble and hearty breakfasts, and world food buffets.  We aim to satisfy
  the most critical beer drinker with our quality craft vegan beers fro
 m local or micro-breweries on tap.\nIt holds 2 Time Out awards, is ope
 n Mon-Sun and hosts Jazz every Thursday evening and presents singer/so
 ngwriters, alternative folk and poetry and emerging artists on Friday 
 nights.\n\nFor more information visit https://bowesandbounds.org/event
 s/jazz-at-karamel-babelfish-1
DTSTART;TZID=Europe/London:20180524T190000
DTEND;TZID=Europe/London:20180524T233000
CATEGORIES:jazz, live, music, haringey, vegan, family-friendly
LOCATION:Karamel London N22
WEBSITE:http://www.karamel.london
URL:http://www.karamel.london
CONTACT:020 8829 8989
ORGANIZER;CN="Alan Drummer":https://bowesandbounds.org/profile/AlanDru
 mmer
ATTACH;FMTTYPE="image/jpeg":http://storage.ning.com/topology/rest/1.0/
 file/get/2287329712?profile=original
ATTENDEE;ROLE=REQ-PARTICIPANT;PARTSTAT=ACCEPTED;RSVP=TRUE;CN="Alan Dru
 mmer":https://bowesandbounds.org/profile/AlanDrummer
END:VEVENT
END:VCALENDAR
