BEGIN:VCALENDAR
PRODID:NingEventWidget-v1
VERSION:2.0
METHOD:PUBLISH
BEGIN:VTIMEZONE
TZID:Europe/London
X-LIC-LOCATION:Europe/London
BEGIN:DAYLIGHT
TZOFFSETFROM:+0000
TZOFFSETTO:+0100
TZNAME:BST
DTSTART:19700329T010000
RRULE:FREQ=YEARLY;BYMONTH=3;BYDAY=-1SU
END:DAYLIGHT
BEGIN:STANDARD
TZOFFSETFROM:+0100
TZOFFSETTO:+0000
TZNAME:GMT
DTSTART:19701025T020000
RRULE:FREQ=YEARLY;BYMONTH=10;BYDAY=-1SU
END:STANDARD
END:VTIMEZONE
BEGIN:VEVENT
UID:6278630:Event:116240
DTSTAMP:20260425T012008Z
SUMMARY:Jazz at Karamel: Brandon Allen + John Critchinson + Dave Whitf
 ord + Stu Butterfield
DESCRIPTION:Host of the Late Late Show at Ronnie Scotts every Wednesda
 y with his quartet, Brandon Allen has an enviable reputation as one of
  the finest saxophonists, having worked with stars ranging from Eric C
 lapton, Mica Paris and Neil Diamond to US3, Keith Tippett and Tony Chr
 istie, appearing regularly at jazz festivals around the world. Tonight
 , he plays alongside his equally talented peers, John Critchinson, Dav
 e Whitford and Stu Butterfield.\n\n“Brandon Allen is arguably the mo
 st exciting tenor player in Britain today. His phrasing is unashamedly
  emotional, soaked in the blues tradition.”-  Tony Hall (JAZZWISE)\
 n\nDOORS OPEN 7PM, MUSIC STARTS AT 8PM\nBUY YOUR TICKETS HERE!\n\nFor 
 more information visit https://bowesandbounds.org/events/jazz-at-karam
 el-brandon-allen-john-critchinson-dave-whitford-stu
DTSTART;TZID=Europe/London:20161201T190000
DTEND;TZID=Europe/London:20161201T230000
CATEGORIES:"'jazz'", "'jazz", at, "karamel'", "'music'", "'music", "'k
 aramel'"
LOCATION:Karamel
WEBSITE:http://karamelrestaurant.com/event/jazz-at-karamelmark-crooks-
 colin-oxley-mike-gorman-stu-butterfield/
URL:http://karamelrestaurant.com/event/jazz-at-karamelmark-crooks-coli
 n-oxley-mike-gorman-stu-butterfield/
CONTACT:0208 829 8989
ORGANIZER;CN="Events at Karamel":https://bowesandbounds.org/profile/Ph
 ilSherman
ATTACH;FMTTYPE="image/jpeg":http://storage.ning.com/topology/rest/1.0/
 file/get/2287313125?profile=original
ATTENDEE;ROLE=REQ-PARTICIPANT;PARTSTAT=ACCEPTED;RSVP=TRUE;CN="Events a
 t Karamel":https://bowesandbounds.org/profile/PhilSherman
END:VEVENT
END:VCALENDAR
