BEGIN:VCALENDAR
PRODID:NingEventWidget-v1
VERSION:2.0
METHOD:PUBLISH
BEGIN:VTIMEZONE
TZID:Europe/London
X-LIC-LOCATION:Europe/London
BEGIN:DAYLIGHT
TZOFFSETFROM:+0000
TZOFFSETTO:+0100
TZNAME:BST
DTSTART:19700329T010000
RRULE:FREQ=YEARLY;BYMONTH=3;BYDAY=-1SU
END:DAYLIGHT
BEGIN:STANDARD
TZOFFSETFROM:+0100
TZOFFSETTO:+0000
TZNAME:GMT
DTSTART:19701025T020000
RRULE:FREQ=YEARLY;BYMONTH=10;BYDAY=-1SU
END:STANDARD
END:VTIMEZONE
BEGIN:VEVENT
UID:6278630:Event:121117
DTSTAMP:20260424T224232Z
SUMMARY:Jazz at Karamel: Chris Biscoe, John Critchinson, Dave Whitford
 , Stu Butterfield
DESCRIPTION:Four talented men from the UK jazz scene come together ton
 ight to perform for Jazz at Karamel. Sure to be a treat of an evening 
 with multi-instrumentalist Chris Biscoe treating us to smooth sounds f
 rom the sax tonight, melodic piano from John Critchinson, a dash of ba
 ss from popular Dave Whitford and all kept in time with Stu Butterfiel
 d on drums.\n\n \n\nChris Biscoe (saxes) John Critchinson (piano) Dav
 e Whitford (bass) Stu Butterfield (drums)\n\n \n\nEarlybird tickets a
 vailable £8 www.karamel.london or £10 on the door.\n\n \n\nDoors op
 en at 7pm, Music starts at 8pm\n\n \n\nFull range of food and snacks 
 available from bar.\n\n\nFor more information visit https://bowesandbo
 unds.org/events/jazz-at-karamel-chris-biscoe-john-critchinson-dave-whi
 tford-stu
DTSTART;TZID=Europe/London:20170323T190000
DTEND;TZID=Europe/London:20170323T230000
CATEGORIES:"'jazz'", "'jazz", at, "karamel'", "'music", "'music'", "ni
 ght'", "'karamel'", in, "haringey'"
LOCATION:Karamel
WEBSITE:http://www.karamel.london
URL:http://www.karamel.london
CONTACT:0208 829 8989
ORGANIZER:Karamel
ATTACH;FMTTYPE="image/jpeg":http://storage.ning.com/topology/rest/1.0/
 file/get/2287316175?profile=original
ATTENDEE;ROLE=REQ-PARTICIPANT;PARTSTAT=ACCEPTED;RSVP=TRUE;CN="Sureka F
 ernando":https://bowesandbounds.org/profile/SurekaFernando
ATTENDEE;ROLE=REQ-PARTICIPANT;PARTSTAT=ACCEPTED;RSVP=TRUE;CN="Events a
 t Karamel":https://bowesandbounds.org/profile/PhilSherman
END:VEVENT
END:VCALENDAR
