BEGIN:VCALENDAR
PRODID:NingEventWidget-v1
VERSION:2.0
METHOD:PUBLISH
BEGIN:VTIMEZONE
TZID:Europe/London
X-LIC-LOCATION:Europe/London
BEGIN:DAYLIGHT
TZOFFSETFROM:+0000
TZOFFSETTO:+0100
TZNAME:BST
DTSTART:19700329T010000
RRULE:FREQ=YEARLY;BYMONTH=3;BYDAY=-1SU
END:DAYLIGHT
BEGIN:STANDARD
TZOFFSETFROM:+0100
TZOFFSETTO:+0000
TZNAME:GMT
DTSTART:19701025T020000
RRULE:FREQ=YEARLY;BYMONTH=10;BYDAY=-1SU
END:STANDARD
END:VTIMEZONE
BEGIN:VEVENT
UID:6278630:Event:121221
DTSTAMP:20260424T234125Z
SUMMARY:Jazz at Karamel: Chris Laurence Quartet
DESCRIPTION:A collection of world class virtuosi, all four of these wo
 nderful musicians operate in all forms of music, jazz, rock and pop, c
 lassical and film, and have appeared all over the world. John, Chris a
 nd Martin were, of course, the other three members of the late Kenny W
 heeler’s much lauded Quartet.\n\nChris Laurence (b), Frank Ricotti (
 vibes), John Paricelli (g), Martin France (d)\n\nTICKETS ARE £10 OTD/
 £8 limited early bird tickets available at www.karamel.london\n\n“T
 his tremendously influential Quartet” – The Vortex\n“A superb al
 bum, initially easy on the ear, yet revealing fresh subtleties each ti
 me it’s played” – Chris Parker\n\n\nFor more information visit h
 ttps://bowesandbounds.org/events/jazz-at-karamel-chris-laurence-quarte
 t-2
DTSTART;TZID=Europe/London:20170216T190000
DTEND;TZID=Europe/London:20170216T230000
CATEGORIES:"'jazz'", "'jazz", at, "karamel'", "'music", "'music'", "ni
 ght'", "'karamel'", in, "haringey'"
LOCATION:Karamel
WEBSITE:http://www.karamel.london
URL:http://www.karamel.london
CONTACT:0208 365 7500
ORGANIZER:Karamel
ATTACH;FMTTYPE="image/jpeg":http://storage.ning.com/topology/rest/1.0/
 file/get/2287317771?profile=original
ATTENDEE;ROLE=REQ-PARTICIPANT;PARTSTAT=ACCEPTED;RSVP=TRUE;CN="Events a
 t Karamel":https://bowesandbounds.org/profile/PhilSherman
END:VEVENT
END:VCALENDAR
