BEGIN:VCALENDAR
PRODID:NingEventWidget-v1
VERSION:2.0
METHOD:PUBLISH
BEGIN:VTIMEZONE
TZID:Europe/London
X-LIC-LOCATION:Europe/London
BEGIN:DAYLIGHT
TZOFFSETFROM:+0000
TZOFFSETTO:+0100
TZNAME:BST
DTSTART:19700329T010000
RRULE:FREQ=YEARLY;BYMONTH=3;BYDAY=-1SU
END:DAYLIGHT
BEGIN:STANDARD
TZOFFSETFROM:+0100
TZOFFSETTO:+0000
TZNAME:GMT
DTSTART:19701025T020000
RRULE:FREQ=YEARLY;BYMONTH=10;BYDAY=-1SU
END:STANDARD
END:VTIMEZONE
BEGIN:VEVENT
UID:6278630:Event:122945
DTSTAMP:20260424T200929Z
SUMMARY:Jazz at Karamel: End of Season Jam
DESCRIPTION:End of season jam with many of the musicians who have perf
 ormed at Karamel through the year, and a rhythm section of Pete Whitta
 ker, Steve Watts and Stu Butterfield. A chance to see some of the the 
 finest musicians play in groups you might never have the chance to see
  again! A night of surprise and free flowing tunes is guaranteed.\nJaz
 z at Karamel will return in September!\n\nEARLYBIRD TICKETS £8 www.ka
 ramel.london£10 OTDDOORS OPEN 7PM, MUSIC STARTS 8PM\n\nFor more infor
 mation visit https://bowesandbounds.org/events/jazz-at-karamel-end-of-
 season-jam-1
DTSTART;TZID=Europe/London:20170727T190000
DTEND;TZID=Europe/London:20170727T230000
CATEGORIES:"'jazz'", "'jazz", "music'", at, "karamel'", "'karamel'", "
 'karamel", "jazz'", "n22'", "'n22", "'music", "'music'", in, wood, "gr
 een'"
LOCATION:Karamel
WEBSITE:http://www.karamel.london
URL:http://www.karamel.london
CONTACT:0208 829 8989
ORGANIZER;CN="Events at Karamel":https://bowesandbounds.org/profile/Ph
 ilSherman
ATTACH;FMTTYPE="image/jpeg":http://storage.ning.com/topology/rest/1.0/
 file/get/2287318970?profile=original
ATTENDEE;ROLE=REQ-PARTICIPANT;PARTSTAT=ACCEPTED;RSVP=TRUE;CN="Events a
 t Karamel":https://bowesandbounds.org/profile/PhilSherman
END:VEVENT
END:VCALENDAR
