BEGIN:VCALENDAR
PRODID:NingEventWidget-v1
VERSION:2.0
METHOD:PUBLISH
BEGIN:VTIMEZONE
TZID:Europe/London
X-LIC-LOCATION:Europe/London
BEGIN:DAYLIGHT
TZOFFSETFROM:+0000
TZOFFSETTO:+0100
TZNAME:BST
DTSTART:19700329T010000
RRULE:FREQ=YEARLY;BYMONTH=3;BYDAY=-1SU
END:DAYLIGHT
BEGIN:STANDARD
TZOFFSETFROM:+0100
TZOFFSETTO:+0000
TZNAME:GMT
DTSTART:19701025T020000
RRULE:FREQ=YEARLY;BYMONTH=10;BYDAY=-1SU
END:STANDARD
END:VTIMEZONE
BEGIN:VEVENT
UID:6278630:Event:121357
DTSTAMP:20260419T134820Z
SUMMARY:Jazz at Karamel: Frank Griffith Nonet
DESCRIPTION:Frank Griffith’s name can be found in several records, a
  talented composer/arranger, his contributions with artists and orches
 tras make up a who’s who of the local jazz scene. His flawless ensem
 ble has featured in the last two London Jazz Festivals, with high accl
 aim. Expect a repertoire running from Miles and Ellington to 40’s Fi
 lm Noir themes, including some popular songs and Afro-Cuban mambos.\n\
 nFrank Griffith (tenor sax, leader), Henry Lowther, Robbie Robson (tru
 mpets), Adrian Fry (trombone), Matt Wates (alto sax), Richard Shepherd
  (baritone sax), Tim Lapthorn (piano), Flo Moore (bass), Paul Clarvis 
 (drums)\n\nEarly bird £8 tickets available at www.karamel.london and 
 £10 tickets on the door\n\nDoors open 7pm, Music starts 8pm\n\nFor mo
 re information visit https://bowesandbounds.org/events/jazz-at-karamel
 -frank-griffith-nonet
DTSTART;TZID=Europe/London:20170525T190000
DTEND;TZID=Europe/London:20170525T230000
CATEGORIES:"'jazz'", "'jazz", at, "karamel'", "'karamel'", "'n22'", "'
 n22", "jazz'", in, wood, "green'", "'music", "'karamel", "music'"
LOCATION:Karamel
WEBSITE:http://www.karamel.london
URL:http://www.karamel.london
CONTACT:0208 829 8989
ORGANIZER:Karamel
ATTACH;FMTTYPE="image/jpeg":http://storage.ning.com/topology/rest/1.0/
 file/get/2287318440?profile=original
ATTENDEE;ROLE=REQ-PARTICIPANT;PARTSTAT=ACCEPTED;RSVP=TRUE;CN="Events a
 t Karamel":https://bowesandbounds.org/profile/PhilSherman
END:VEVENT
END:VCALENDAR
