BEGIN:VCALENDAR
PRODID:NingEventWidget-v1
VERSION:2.0
METHOD:PUBLISH
BEGIN:VTIMEZONE
TZID:Europe/London
X-LIC-LOCATION:Europe/London
BEGIN:DAYLIGHT
TZOFFSETFROM:+0000
TZOFFSETTO:+0100
TZNAME:BST
DTSTART:19700329T010000
RRULE:FREQ=YEARLY;BYMONTH=3;BYDAY=-1SU
END:DAYLIGHT
BEGIN:STANDARD
TZOFFSETFROM:+0100
TZOFFSETTO:+0000
TZNAME:GMT
DTSTART:19701025T020000
RRULE:FREQ=YEARLY;BYMONTH=10;BYDAY=-1SU
END:STANDARD
END:VTIMEZONE
BEGIN:VEVENT
UID:6278630:Event:131602
DTSTAMP:20260424T235804Z
SUMMARY:Jazz at Karamel: Frank Griffith Quartet
DESCRIPTION:Frank Griffith (tenor), Alex Bryson (piano), Julian Bury (
 bass), Les Crinkel (drums)\nTenor saxophonist and clarinettist, Frank 
 Griffith was born in Oregon, USA, and lived in New York from 1980 to 1
 995, working with Ron Carter, Jack McDuff and the Orchestras of Buddy 
 Rich, Mel Lewis and Mel Torme among others.\nHe moved to London in 199
 6, forming his own nine piece band soon afterwards. The Nonet has reco
 rded successfully several times, and has been a regular feature at Jaz
 z Festivals throughout the UK.\nHe is a renowned composer and arranger
 , supplying charts and compositions to the Ron Carter Nonet, the Lione
 l Hampton Orchestra and the Brooklyn Philharmonic Orchestra.\nSee more
  at www.frankgriffith.co.uk\nOpen all day, with happy hour 5-7pmJazz e
 vent starts 7pm, Music from 8pmVegan Kitchen 7-10pm£10 on the door\nK
 aramel is a unique vegan space in the heart of Wood Green’s Cultural
  Quarter and is the centre point of the Chocolate Factory studios, whe
 re you can enjoy good quality fresh, affordable and hearty breakfasts,
  and world food lunchtime buffets, inspired by our top chefs’ travel
 s.  Our highly acclaimed all day vegan Sunday roast has been going do
 wn a storm for over 3 years, and we have recently won the Time Out Lon
 don 2018 Award for best restaurant in Wood Green.\nKaramel is a vegan 
 haven for arts, performances, music and food.  By day we are a café/
 bar with local artist exhibitions, and by evening (Thu-Sat) we host ec
 lectic and varied music and performances with a range of vegan food to
  match the evening.\nWe aim to satisfy the most critical beer drinker 
 with our offering of a good range of quality and refreshing craft beer
 s from local or micro-breweries on tap.\n\n\n\nFor more information vi
 sit https://bowesandbounds.org/events/jazz-at-karamel-frank-griffith-q
 uartet
DTSTART;TZID=Europe/London:20180607T180000
DTEND;TZID=Europe/London:20180607T233000
CATEGORIES:jazz, live, music, haringey, vegan, kitchen, wood, green, c
 raft, beers, vegetarian, north, london
LOCATION:Karamel London N22
WEBSITE:http://www.karamel.london
URL:http://www.karamel.london
CONTACT:020 8829 8989
ORGANIZER;CN="Alan Drummer":https://bowesandbounds.org/profile/AlanDru
 mmer
ATTACH;FMTTYPE="image/jpeg":http://storage.ning.com/topology/rest/1.0/
 file/get/2287326050?profile=original
ATTENDEE;ROLE=REQ-PARTICIPANT;PARTSTAT=ACCEPTED;RSVP=TRUE;CN="Alan Dru
 mmer":https://bowesandbounds.org/profile/AlanDrummer
END:VEVENT
END:VCALENDAR
