BEGIN:VCALENDAR
PRODID:NingEventWidget-v1
VERSION:2.0
METHOD:PUBLISH
BEGIN:VTIMEZONE
TZID:Europe/London
X-LIC-LOCATION:Europe/London
BEGIN:DAYLIGHT
TZOFFSETFROM:+0000
TZOFFSETTO:+0100
TZNAME:BST
DTSTART:19700329T010000
RRULE:FREQ=YEARLY;BYMONTH=3;BYDAY=-1SU
END:DAYLIGHT
BEGIN:STANDARD
TZOFFSETFROM:+0100
TZOFFSETTO:+0000
TZNAME:GMT
DTSTART:19701025T020000
RRULE:FREQ=YEARLY;BYMONTH=10;BYDAY=-1SU
END:STANDARD
END:VTIMEZONE
BEGIN:VEVENT
UID:6278630:Event:121313
DTSTAMP:20260424T223609Z
SUMMARY:Jazz at Karamel: Gary Willcox Quartet
DESCRIPTION:Known for their strong individuality and profile through y
 ears of experience playing with many of the UK’s leading jazz/folk a
 rtists, they are a quartet you don’t want to miss. With a mixture of
  original material of some of the masters of the idiom (e.g. Charlie P
 arker / Wayne Shorter), arranged for the band’s own purposes.\n\n \
 n\n“A versatile band with a rich, emotive sound: three powerful yet 
 thoughtful soloists propelled by a lively, rustling drummer, playing o
 pen, attractively airy music imbued with just the right mix of punch a
 nd wistfulness.” – Chris Parker\n\n \n\nBuy your tickets at www.k
 aramel.london\n\n \n\nDOORS OPEN 7PM, MUSIC STARTS 8PM\n\n \n\nSteve
  Main (alto sax) Ross Stanley (piano) Oli Hayhurst (bass) Gary Willcox
  (drums)\n\n\n\nFor more information visit https://bowesandbounds.org/
 events/jazz-at-karamel-gary-willcox-quartet-1
DTSTART;TZID=Europe/London:20170302T190000
DTEND;TZID=Europe/London:20170302T230000
CATEGORIES:"'jazz'", "'jazz", at, "karamel'", "'music", "'music'", "ni
 ght'", "'karamel'", in, "haringey'"
LOCATION:Karamel
WEBSITE:http://www.karamel.london
URL:http://www.karamel.london
CONTACT:0208 365 7500
ORGANIZER:Karamel
ATTACH;FMTTYPE="image/jpeg":http://storage.ning.com/topology/rest/1.0/
 file/get/2287308306?profile=original
ATTENDEE;ROLE=REQ-PARTICIPANT;PARTSTAT=ACCEPTED;RSVP=TRUE;CN="Events a
 t Karamel":https://bowesandbounds.org/profile/PhilSherman
END:VEVENT
END:VCALENDAR
