BEGIN:VCALENDAR
PRODID:NingEventWidget-v1
VERSION:2.0
METHOD:PUBLISH
BEGIN:VTIMEZONE
TZID:Europe/London
X-LIC-LOCATION:Europe/London
BEGIN:DAYLIGHT
TZOFFSETFROM:+0000
TZOFFSETTO:+0100
TZNAME:BST
DTSTART:19700329T010000
RRULE:FREQ=YEARLY;BYMONTH=3;BYDAY=-1SU
END:DAYLIGHT
BEGIN:STANDARD
TZOFFSETFROM:+0100
TZOFFSETTO:+0000
TZNAME:GMT
DTSTART:19701025T020000
RRULE:FREQ=YEARLY;BYMONTH=10;BYDAY=-1SU
END:STANDARD
END:VTIMEZONE
BEGIN:VEVENT
UID:6278630:Event:111052
DTSTAMP:20260422T143329Z
SUMMARY:Jazz at Karamel: Gary Willcox Quartet
DESCRIPTION:Known for their strong individuality and profile through y
 ears of experience playing with many of the UK’s leading jazz/folk a
 rtists, they are a quartet you don’t want to miss. With a mixture of
  original material of some of the masters of the idiom (e.g. Charlie P
 arker / Wayne Shorter), arranged for the band’s own purposes.\n\n“
 A versatile band with a rich, emotive sound: three powerful yet though
 tful soloists propelled by a lively, rustling drummer, playing open, a
 ttractively airy music imbued with just the right mix of punch and wis
 tfulness.” – Chris Parker\n\nBuy your tickets here!\n\nGary Wilcox
  (drums), Stephen Main (tenor sax), Ross Stanley (piano), Oli Hayhurst
  (bass)\n\nFor more information visit https://bowesandbounds.org/event
 s/jazz-at-karamel-gary-willcox-quartet
DTSTART;TZID=Europe/London:20160714T190000
DTEND;TZID=Europe/London:20160714T230000
CATEGORIES:"'jazz'", "'jazz", at, "karamel'", "'karamel", "jazz'", "'m
 usic", in, wood, "green'", "london'", jazz, "haringey'", "'haringey", 
 music, "nights'"
LOCATION:Karamel
WEBSITE:http://karamelrestaurant.com/event/jazz-at-karamel-gary-willco
 x-quartet/
URL:http://karamelrestaurant.com/event/jazz-at-karamel-gary-willcox-qu
 artet/
CONTACT:0208 829 8989
ORGANIZER:Jazz at Karamel
ATTACH;FMTTYPE="image/jpeg":http://storage.ning.com/topology/rest/1.0/
 file/get/2287308306?profile=original
ATTENDEE;ROLE=REQ-PARTICIPANT;PARTSTAT=ACCEPTED;RSVP=TRUE;CN="Events a
 t Karamel":https://bowesandbounds.org/profile/PhilSherman
END:VEVENT
END:VCALENDAR
