BEGIN:VCALENDAR
PRODID:NingEventWidget-v1
VERSION:2.0
METHOD:PUBLISH
BEGIN:VTIMEZONE
TZID:Europe/London
X-LIC-LOCATION:Europe/London
BEGIN:DAYLIGHT
TZOFFSETFROM:+0000
TZOFFSETTO:+0100
TZNAME:BST
DTSTART:19700329T010000
RRULE:FREQ=YEARLY;BYMONTH=3;BYDAY=-1SU
END:DAYLIGHT
BEGIN:STANDARD
TZOFFSETFROM:+0100
TZOFFSETTO:+0000
TZNAME:GMT
DTSTART:19701025T020000
RRULE:FREQ=YEARLY;BYMONTH=10;BYDAY=-1SU
END:STANDARD
END:VTIMEZONE
BEGIN:VEVENT
UID:6278630:Event:114749
DTSTAMP:20260425T011150Z
SUMMARY:Jazz at Karamel:Mark Crooks + Colin Oxley + Mike Gorman + Stu 
 Butterfield
DESCRIPTION:Mark Crooks astounding clarinet and tenor playing has been
  seen all over the London scene, and is coming to Jazz at Karamel this
  November. A member of the superb Back to Basie Orchestra and John Wil
 son Orchsestra, tonight he brings his own brand of jazz accompanied by
  Colin Oxley on guitar, Mike Gorman on organ and Stu Butterfield on dr
 ums. Expect nothing more than a fluent and flowing night packed with l
 ively and original tunes.\n\n“In Mark Crooks, Langton has found a pl
 ayer who can evoke much of that instrumental brilliance, particularly 
 in his effortless negotiation of the altissimo register on Shaw’s se
 t pieces Stardust and Concerto for Clarinet.” – Alyn Shipton\n\nMa
 rk Crooks (ten sax, clt), Colin Oxley (gtr), Mike Gorman (org), Stu Bu
 tterfield (dms)\nDOORS OPEN 7PM, MUSIC STARTS 8PM\nBUY YOUR TICKETS HE
 RE!\n\n\nFor more information visit https://bowesandbounds.org/events/
 jazz-at-karamel-mark-crooks-colin-oxley-mike-gorman-stu
DTSTART;TZID=Europe/London:20161103T190000
DTEND;TZID=Europe/London:20161103T230000
CATEGORIES:"'jazz'", "'jazz", "music'", in, "haringey'", at, "karamel'
 ", "'thursday", "jazz'", "'n22", "n22'", "'haringey'", "'haringey", "'
 music", "'karamel'", "'karamel"
LOCATION:Karamel
WEBSITE:http://karamelrestaurant.com/event/jazz-at-karamelmark-crooks-
 colin-oxley-mike-gorman-stu-butterfield/
URL:http://karamelrestaurant.com/event/jazz-at-karamelmark-crooks-coli
 n-oxley-mike-gorman-stu-butterfield/
CONTACT:0208 829 8989
ORGANIZER:Jazz at Karamel
ATTACH;FMTTYPE="image/jpeg":http://storage.ning.com/topology/rest/1.0/
 file/get/2287311042?profile=original
ATTENDEE;ROLE=REQ-PARTICIPANT;PARTSTAT=ACCEPTED;RSVP=TRUE;CN="Events a
 t Karamel":https://bowesandbounds.org/profile/PhilSherman
END:VEVENT
END:VCALENDAR
