BEGIN:VCALENDAR
PRODID:NingEventWidget-v1
VERSION:2.0
METHOD:PUBLISH
BEGIN:VTIMEZONE
TZID:Europe/London
X-LIC-LOCATION:Europe/London
BEGIN:DAYLIGHT
TZOFFSETFROM:+0000
TZOFFSETTO:+0100
TZNAME:BST
DTSTART:19700329T010000
RRULE:FREQ=YEARLY;BYMONTH=3;BYDAY=-1SU
END:DAYLIGHT
BEGIN:STANDARD
TZOFFSETFROM:+0100
TZOFFSETTO:+0000
TZNAME:GMT
DTSTART:19701025T020000
RRULE:FREQ=YEARLY;BYMONTH=10;BYDAY=-1SU
END:STANDARD
END:VTIMEZONE
BEGIN:VEVENT
UID:6278630:Event:122689
DTSTAMP:20260424T200644Z
SUMMARY:Jazz at Karamel: Nick Costley-White Trio
DESCRIPTION:The Nick Costley-White Trio combine their love and deep un
 derstanding for the jazz tradition with a truly fresh and modern aesth
 etic. The band’s repertoire draws on unique interpretations of songs
  from the jazz cannon as well as their own exciting and harmonically r
 ich compositions. The band is comprised of some of the countries fines
 t improvising musicians, led by guitarist and composer Nick Costley-Wh
 ite (Snowpoet, John Warren, Pete Hurt, Martin Speake) alongside Conor 
 Chaplin on double bass (Bobo Stenson, George Garzone, Laura Jurd) and 
 Dave Hamblett on drums (Ivo Neame, Abram Wilson, Elchin Shirinov).Rece
 nt performance highlights for Nick Costley White include a sellout per
 formance at the 2015 London Jazz Festival with his Quartet which was r
 eviewed for Jazzwise, “Guitarist, Nick Costley-White has a flair for
  melody and he crafted some beautiful lines”, as well as performance
 s at the Southbank Centre Clore Ballroom and Ronnie Scotts.\nEARLYBIRD
  £8 TICKETS at www.karamel.london£10 OTDDOORS OPEN 7PM, MUSIC START
 S 8PM\n\nFor more information visit https://bowesandbounds.org/events/
 jazz-at-karamel-nick-costley-white-trio
DTSTART;TZID=Europe/London:20170720T190000
DTEND;TZID=Europe/London:20170720T230000
CATEGORIES:"'jazz'", "'jazz", "music'", at, "karamel'", "'karamel'", "
 'karamel", "jazz'", "n22'", "'n22", "'music", "'music'", in, wood, "gr
 een'"
LOCATION:Karamel
WEBSITE:http://www.karamel.london
URL:http://www.karamel.london
CONTACT:0208 829 8989
ORGANIZER:Karamel
ATTACH;FMTTYPE="image/jpeg":http://storage.ning.com/topology/rest/1.0/
 file/get/2287318509?profile=original
ATTENDEE;ROLE=REQ-PARTICIPANT;PARTSTAT=ACCEPTED;RSVP=TRUE;CN="Events a
 t Karamel":https://bowesandbounds.org/profile/PhilSherman
END:VEVENT
END:VCALENDAR
