BEGIN:VCALENDAR
PRODID:NingEventWidget-v1
VERSION:2.0
METHOD:PUBLISH
BEGIN:VTIMEZONE
TZID:Europe/London
X-LIC-LOCATION:Europe/London
BEGIN:DAYLIGHT
TZOFFSETFROM:+0000
TZOFFSETTO:+0100
TZNAME:BST
DTSTART:19700329T010000
RRULE:FREQ=YEARLY;BYMONTH=3;BYDAY=-1SU
END:DAYLIGHT
BEGIN:STANDARD
TZOFFSETFROM:+0100
TZOFFSETTO:+0000
TZNAME:GMT
DTSTART:19701025T020000
RRULE:FREQ=YEARLY;BYMONTH=10;BYDAY=-1SU
END:STANDARD
END:VTIMEZONE
BEGIN:VEVENT
UID:6278630:Event:107230
DTSTAMP:20260424T032644Z
SUMMARY:Jazz at Karamel: Orchestra Mahatma
DESCRIPTION:An electric band which draws heavily on international musi
 c including Spanish, French, Bulgarian, Macedonian, and Latin American
  as well as jazz influences.“A little miracle of home grown British 
 Jazz” – The Independent“Stirring and stunning experiments in Jaz
 z without frontiers” – The Sunday TimesSonya Slany (violin), Stuar
 t Hall (guitar), Misha Mullo Abbado (bass/sousaphone), Paul Clarvis (d
 rums)\n\nFor more information visit https://bowesandbounds.org/events/
 jazz-at-karamel-orchestra-mahatma
DTSTART;TZID=Europe/London:20160310T190000
DTEND;TZID=Europe/London:20160310T230000
CATEGORIES:"'music'", "'jazz", "music'", "'jazz'", "'live", "jazz'", "
 'karamel'", "'karamel", "nights'", in, "haringey'"
LOCATION:Karamel
WEBSITE:http://www.karamel.eventbrite.co.uk
URL:http://www.karamel.eventbrite.co.uk
CONTACT:0208 829 8989
ORGANIZER:Jazz at Karamel
ATTACH;FMTTYPE="image/jpeg":http://storage.ning.com/topology/rest/1.0/
 file/get/2287304750?profile=original
ATTENDEE;ROLE=REQ-PARTICIPANT;PARTSTAT=ACCEPTED;RSVP=TRUE;CN="Events a
 t Karamel":https://bowesandbounds.org/profile/PhilSherman
END:VEVENT
END:VCALENDAR
