BEGIN:VCALENDAR
PRODID:NingEventWidget-v1
VERSION:2.0
METHOD:PUBLISH
BEGIN:VTIMEZONE
TZID:Europe/London
X-LIC-LOCATION:Europe/London
BEGIN:DAYLIGHT
TZOFFSETFROM:+0000
TZOFFSETTO:+0100
TZNAME:BST
DTSTART:19700329T010000
RRULE:FREQ=YEARLY;BYMONTH=3;BYDAY=-1SU
END:DAYLIGHT
BEGIN:STANDARD
TZOFFSETFROM:+0100
TZOFFSETTO:+0000
TZNAME:GMT
DTSTART:19701025T020000
RRULE:FREQ=YEARLY;BYMONTH=10;BYDAY=-1SU
END:STANDARD
END:VTIMEZONE
BEGIN:VEVENT
UID:6278630:Event:115076
DTSTAMP:20260420T064542Z
SUMMARY:Jazz at Karamel: Orquestra Mahatma
DESCRIPTION:Paul Clarvis, hitty things, Sonia Slany, scrapy things, St
 uart Hall and Misha Mullov Abbado, twangy things. An electric band whi
 ch draws heavily on international music including Spanish, French, Bul
 garian, Macedonian, and Latin American as well as jazz influences.\n\n
 “A little miracle of home grown British Jazz” – The Independent\
 n“Stirring and stunning experiments in Jazz without frontiers” –
  The Sunday Times\n\nDOORS OPEN 7PM, MUSIC STARTS AT 8PM\nBUY YOUR TIC
 KETS HERE!\n\nSonya Slany (vln), Stuart Hall (gtr), Misha Mullov Abbad
 o (bass), Paul Clarvis (perc)\n\nFor more information visit https://bo
 wesandbounds.org/events/jazz-at-karamel-orquestra-mahatma-2
DTSTART;TZID=Europe/London:20161124T190000
DTEND;TZID=Europe/London:20161124T230000
CATEGORIES:"'jazz'", "'music'", "'jazz", "music'", in, "haringey'", "'
 n22", "jazz'", wood, "green'", "'karamel'", "'karamel", at, "karamel'"
LOCATION:Karamel
WEBSITE:http://karamelrestaurant.com/event/jazz-at-karamel-orquestra-m
 ahatma/
URL:http://karamelrestaurant.com/event/jazz-at-karamel-orquestra-mahat
 ma/
CONTACT:0208 829 8989
ORGANIZER:Jazz at Karamel
ATTACH;FMTTYPE="image/jpeg":http://storage.ning.com/topology/rest/1.0/
 file/get/2287310314?profile=original
ATTENDEE;ROLE=REQ-PARTICIPANT;PARTSTAT=ACCEPTED;RSVP=TRUE;CN="Events a
 t Karamel":https://bowesandbounds.org/profile/PhilSherman
END:VEVENT
END:VCALENDAR
