BEGIN:VCALENDAR
PRODID:NingEventWidget-v1
VERSION:2.0
METHOD:PUBLISH
BEGIN:VTIMEZONE
TZID:Europe/London
X-LIC-LOCATION:Europe/London
BEGIN:DAYLIGHT
TZOFFSETFROM:+0000
TZOFFSETTO:+0100
TZNAME:BST
DTSTART:19700329T010000
RRULE:FREQ=YEARLY;BYMONTH=3;BYDAY=-1SU
END:DAYLIGHT
BEGIN:STANDARD
TZOFFSETFROM:+0100
TZOFFSETTO:+0000
TZNAME:GMT
DTSTART:19701025T020000
RRULE:FREQ=YEARLY;BYMONTH=10;BYDAY=-1SU
END:STANDARD
END:VTIMEZONE
BEGIN:VEVENT
UID:6278630:Event:110023
DTSTAMP:20260422T024513Z
SUMMARY:Jazz at Karamel: Pavillion
DESCRIPTION:Playing all original music, Jim Rattigan’s Pavillon comb
 ines fantastic musicianship with virtuosic improvising and some of the
  most highly-respected names on the UK and indeed international jazz a
 nd improvised music scenes. We’ll let the lineup and wide array of i
 nstruments speak for itself to show this is definitely not a night to 
 miss.\n\n“Rattigan displays a phenomenal technique…emotional warmt
 h and feeling for jazz…permeates his playing throughout the album.
  – Tony Hall, JAZZWISE magazine\n\nJim Rattigan (french horn, compo
 ser, arranger, leader),  Percy Pursglove, Robbie Robson, Steve Fishwi
 ck (trumpets), Jeremy Price (trombone), SarahWilliams (bass trombone),
  Martin Speake, Andy Panay, Mick Foster (saxophones), Hans Koller (pia
 no), Dave Whitford (bass), Gene Calderazzo (drums)\n\n\nFor more infor
 mation visit https://bowesandbounds.org/events/jazz-at-karamel-pavilli
 on
DTSTART;TZID=Europe/London:20160512T190000
DTEND;TZID=Europe/London:20160512T230000
CATEGORIES:"'karamel'", "'karamel", "music'", "'wood", "green'", "'mus
 ic'", "'jazz'", "'jazz", in, "london'", wood, at, "karamel'"
LOCATION:Karamel
WEBSITE:http://karamelrestaurant.com/event/pavillionjazzatkaramel/
URL:http://karamelrestaurant.com/event/pavillionjazzatkaramel/
CONTACT:0208 829 8989
ORGANIZER:Jazz at Karamel
ATTACH;FMTTYPE="image/jpeg":http://storage.ning.com/topology/rest/1.0/
 file/get/2287306825?profile=original
ATTENDEE;ROLE=REQ-PARTICIPANT;PARTSTAT=ACCEPTED;RSVP=TRUE;CN="Events a
 t Karamel":https://bowesandbounds.org/profile/PhilSherman
END:VEVENT
END:VCALENDAR
