BEGIN:VCALENDAR
PRODID:NingEventWidget-v1
VERSION:2.0
METHOD:PUBLISH
BEGIN:VTIMEZONE
TZID:Europe/London
X-LIC-LOCATION:Europe/London
BEGIN:DAYLIGHT
TZOFFSETFROM:+0000
TZOFFSETTO:+0100
TZNAME:BST
DTSTART:19700329T010000
RRULE:FREQ=YEARLY;BYMONTH=3;BYDAY=-1SU
END:DAYLIGHT
BEGIN:STANDARD
TZOFFSETFROM:+0100
TZOFFSETTO:+0000
TZNAME:GMT
DTSTART:19701025T020000
RRULE:FREQ=YEARLY;BYMONTH=10;BYDAY=-1SU
END:STANDARD
END:VTIMEZONE
BEGIN:VEVENT
UID:6278630:Event:122933
DTSTAMP:20260423T172723Z
SUMMARY:Jazz at Karamel: Pigfoot
DESCRIPTION:Trumpeter Chris Batchelor, has gathered three virtuosos of
  British jazz to create Pigfoot, an energetic, imaginative band mining
  their material from the rich seams of New Orleans music ; hot jazz, s
 pirituals and blues. Pigfoot sandblast away decades of treacly cliche,
  revealing music of both immense joy and subversive power.\n\n“..stu
 nning in their originality and almost anarchically gleeful sense of fu
 n. Pigfoot reminded us that this music was once raucously subversive a
 nd intensely joyous.” – Matthew Wright – londonjazznews.com\n\nD
 oors open 7pm. Music starts 8pm.\nTickets £8 earlybird from www.karam
 el.london or £10 OTD\nChris Batchelor (trumpet), Liam Noble (piano), 
 Oren Marshall (tuba), Paul Clarvis (drums)\n\nFor more information vis
 it https://bowesandbounds.org/events/jazz-at-karamel-pigfoot-1
DTSTART;TZID=Europe/London:20170608T190000
DTEND;TZID=Europe/London:20170608T230000
CATEGORIES:"'jazz'", "'jazz", "music'", at, "karamel'", "'karamel'", "
 'karamel", "jazz'", "n22'", "'n22", "'music", "'music'", in, wood, "gr
 een'"
LOCATION:Karamel
WEBSITE:http://www.karamel.london
URL:http://www.karamel.london
CONTACT:0208 829 8989
ORGANIZER;CN="Events at Karamel":https://bowesandbounds.org/profile/Ph
 ilSherman
ATTACH;FMTTYPE="image/jpeg":http://storage.ning.com/topology/rest/1.0/
 file/get/2287319181?profile=original
ATTENDEE;ROLE=REQ-PARTICIPANT;PARTSTAT=ACCEPTED;RSVP=TRUE;CN="Events a
 t Karamel":https://bowesandbounds.org/profile/PhilSherman
END:VEVENT
END:VCALENDAR
