BEGIN:VCALENDAR
PRODID:NingEventWidget-v1
VERSION:2.0
METHOD:PUBLISH
BEGIN:VTIMEZONE
TZID:Europe/London
X-LIC-LOCATION:Europe/London
BEGIN:DAYLIGHT
TZOFFSETFROM:+0000
TZOFFSETTO:+0100
TZNAME:BST
DTSTART:19700329T010000
RRULE:FREQ=YEARLY;BYMONTH=3;BYDAY=-1SU
END:DAYLIGHT
BEGIN:STANDARD
TZOFFSETFROM:+0100
TZOFFSETTO:+0000
TZNAME:GMT
DTSTART:19701025T020000
RRULE:FREQ=YEARLY;BYMONTH=10;BYDAY=-1SU
END:STANDARD
END:VTIMEZONE
BEGIN:VEVENT
UID:6278630:Event:126130
DTSTAMP:20260424T174702Z
SUMMARY:Jazz at Karamel: Satori
DESCRIPTION:Perrier Award winning saxophonist and composer Josephine D
 avies works at the forefront of the contemporary British jazz scene. G
 raduate of the Guildhall School of Music and Drama, she is now residen
 t composer and tenorist for the London Jazz Orchestra and is featured 
 on the recent, highly acclaimed big band album from veteran saxophonis
 t Pete Hurt. Josephine’s new trio project, Satori, features the huge
  talent of drummer and percussionist Paul Clarvis (Liam Noble, Steve S
 wallow), and bassist Dave Whitford (Christine Tobin, Bill Frisell).\nI
 nfluenced by the great live trio recordings of Joe Henderson and Julia
 n Arguelles, Satori were inspired to create a similar feeling of freed
 om and exploration whilst also bringing a fresh and unique sound throu
 gh original compositions. They have just released their debut live alb
 um on Whirlwind Recordings.\n“A fluid, sumptuous sound” (Jazzwise)
 \n“A high class ballad performance with assured and highly skilled t
 enor sax”(The Jazz Mann) Josephine Davies saxes, Dave Whitford bass,
  Paul Clarvis drums\n\nFor more information visit https://bowesandboun
 ds.org/events/jazz-at-karamel-satori
DTSTART;TZID=Europe/London:20171019T190000
DTEND;TZID=Europe/London:20171019T230000
CATEGORIES:"'jazz", at, "karamel'", "'n22", "jazz'", "'karamel'", "'ja
 zz'", "'music'", "'music"
LOCATION:Karamel
WEBSITE:http://www.karamel.london
URL:http://www.karamel.london
CONTACT:0208 829 8989
ORGANIZER:Karamel
ATTACH;FMTTYPE="image/jpeg":http://storage.ning.com/topology/rest/1.0/
 file/get/2287319529?profile=original
ATTENDEE;ROLE=REQ-PARTICIPANT;PARTSTAT=ACCEPTED;RSVP=TRUE;CN="Events a
 t Karamel":https://bowesandbounds.org/profile/PhilSherman
END:VEVENT
END:VCALENDAR
