BEGIN:VCALENDAR
PRODID:NingEventWidget-v1
VERSION:2.0
METHOD:PUBLISH
BEGIN:VTIMEZONE
TZID:Europe/London
X-LIC-LOCATION:Europe/London
BEGIN:DAYLIGHT
TZOFFSETFROM:+0000
TZOFFSETTO:+0100
TZNAME:BST
DTSTART:19700329T010000
RRULE:FREQ=YEARLY;BYMONTH=3;BYDAY=-1SU
END:DAYLIGHT
BEGIN:STANDARD
TZOFFSETFROM:+0100
TZOFFSETTO:+0000
TZNAME:GMT
DTSTART:19701025T020000
RRULE:FREQ=YEARLY;BYMONTH=10;BYDAY=-1SU
END:STANDARD
END:VTIMEZONE
BEGIN:VEVENT
UID:6278630:Event:107200
DTSTAMP:20260424T012005Z
SUMMARY:Jazz at Karamel: Simon Spillet
DESCRIPTION:Simon Spillet (tenor), John Critchinson (piano), Tim Wells
  (bass) and Stu Butterfield (drums)\nDescribed by the late Humphrey Ly
 ttelton as ‘formidable’, Simon Spillett is a British jazz saxophon
 ist who leads his own quartet featuring John Critchinson (piano), Alec
  Dankworth (bass) and Clark Tracey (drums). He has won several awards 
 for his music, including the tenor saxophone category of the British J
 azz Awards (2011), Jazz Journal magazine’s Critic’s Choice CD of t
 he Year (2009) and Rising Star in the BBC Jazz Awards (2007).\nTo book
  your tickets visit our Eventbrite\n\nFor more information visit https
 ://bowesandbounds.org/events/jazz-at-karamel-simon-spillet
DTSTART;TZID=Europe/London:20160317T190000
DTEND;TZID=Europe/London:20160317T230000
CATEGORIES:"'music'", "'jazz", "music'", "'jazz'", "'live", "jazz'", "
 'karamel'", "'karamel", "nights'", in, "haringey'"
LOCATION:Karamel
WEBSITE:http://www.karamel.eventbrite.co.uk
URL:http://www.karamel.eventbrite.co.uk
CONTACT:0208 829 8989
ORGANIZER:Jazz at Karamel
ATTACH;FMTTYPE="image/jpeg":http://storage.ning.com/topology/rest/1.0/
 file/get/2287279134?profile=original
ATTENDEE;ROLE=REQ-PARTICIPANT;PARTSTAT=ACCEPTED;RSVP=TRUE;CN="Events a
 t Karamel":https://bowesandbounds.org/profile/PhilSherman
END:VEVENT
END:VCALENDAR
