BEGIN:VCALENDAR
PRODID:NingEventWidget-v1
VERSION:2.0
METHOD:PUBLISH
BEGIN:VTIMEZONE
TZID:Europe/London
X-LIC-LOCATION:Europe/London
BEGIN:DAYLIGHT
TZOFFSETFROM:+0000
TZOFFSETTO:+0100
TZNAME:BST
DTSTART:19700329T010000
RRULE:FREQ=YEARLY;BYMONTH=3;BYDAY=-1SU
END:DAYLIGHT
BEGIN:STANDARD
TZOFFSETFROM:+0100
TZOFFSETTO:+0000
TZNAME:GMT
DTSTART:19701025T020000
RRULE:FREQ=YEARLY;BYMONTH=10;BYDAY=-1SU
END:STANDARD
END:VTIMEZONE
BEGIN:VEVENT
UID:6278630:Event:111141
DTSTAMP:20260425T044740Z
SUMMARY:Jazz at Karamel: Solstice
DESCRIPTION:Solstice is a collaboration between some of the foremost b
 andleaders and composers emerging from the thriving east London music 
 scene. Touring extensively throughout the UK and Europe, they have a u
 nified sound drawing  on influences from Brazil, New York, and France
  such as Hermeto Pascoal, Edward Simon and Pierre de Bethmann, whilst 
 retaining a uniquely British identity.\nTori Freestone (saxes, flute),
  Brigitte Beraha (vocals), John Turville (piano),  Jez Franks (guitar
 ), Dave Manington (bass), George Hart (drums)\nDOORS OPEN AT 7PM, MUSI
 C STARTS AT 8PM\nTICKETS CAN BE BOUGHT HERE OR ON THE DOOR\n\n\nFor mo
 re information visit https://bowesandbounds.org/events/jazz-at-karamel
 -solstice
DTSTART;TZID=Europe/London:20160609T190000
DTEND;TZID=Europe/London:20160609T230000
CATEGORIES:"'jazz'", "'jazz", at, "karamel'", "'karamel", "jazz'", "'m
 usic", in, wood, "green'", "london'", jazz, "haringey'", "'haringey", 
 music, "nights'"
LOCATION:Karamel
WEBSITE:http://karamelrestaurant.com/event/solsticejazzatkaramel/
URL:http://karamelrestaurant.com/event/solsticejazzatkaramel/
CONTACT:0208 8896938
ORGANIZER:Jazz at Karamel
ATTACH;FMTTYPE="image/jpeg":http://storage.ning.com/topology/rest/1.0/
 file/get/2287307553?profile=original
ATTENDEE;ROLE=REQ-PARTICIPANT;PARTSTAT=ACCEPTED;RSVP=TRUE;CN="Events a
 t Karamel":https://bowesandbounds.org/profile/PhilSherman
END:VEVENT
END:VCALENDAR
