BEGIN:VCALENDAR
PRODID:NingEventWidget-v1
VERSION:2.0
METHOD:PUBLISH
BEGIN:VTIMEZONE
TZID:Europe/London
X-LIC-LOCATION:Europe/London
BEGIN:DAYLIGHT
TZOFFSETFROM:+0000
TZOFFSETTO:+0100
TZNAME:BST
DTSTART:19700329T010000
RRULE:FREQ=YEARLY;BYMONTH=3;BYDAY=-1SU
END:DAYLIGHT
BEGIN:STANDARD
TZOFFSETFROM:+0100
TZOFFSETTO:+0000
TZNAME:GMT
DTSTART:19701025T020000
RRULE:FREQ=YEARLY;BYMONTH=10;BYDAY=-1SU
END:STANDARD
END:VTIMEZONE
BEGIN:VEVENT
UID:6278630:Event:111056
DTSTAMP:20260425T033424Z
SUMMARY:Jazz at Karamel: Stan Sulzmann, Jonathan Gee, Dave Whitford
DESCRIPTION:Stan Sulzmann has been playing jazz for over twenty years.
  He is a leader in the contemporary European scene and excels in creat
 ing imaginative jazz music. Playing a contemporary spin on the jazz tr
 adition, joining him is Jonathan Gee on piano, Dave Whitford on bass a
 nd Stu Butterfield on drums.\n “Stan Sulzmann seems to sound more pe
 rsonal and hauntingly moving than ever” - John Fordham, Jazz UK\n\nB
 uy your tickets here!\n\nStan Sulzmann (tenor sax), Jonathan Gee (pian
 o), Dae Whitford (bass), Stu Butterfield (drums)\n\nFor more informati
 on visit https://bowesandbounds.org/events/jazz-at-karamel-stan-sulzma
 nn-jonathan-gee-dave-whitford
DTSTART;TZID=Europe/London:20160721T190000
DTEND;TZID=Europe/London:20160721T230000
CATEGORIES:"'jazz'", "'jazz", at, "karamel'", "'karamel", "jazz'", "'m
 usic", in, wood, "green'", "london'", jazz, "haringey'", "'haringey", 
 music, "nights'"
LOCATION:Karamel
WEBSITE:http://karamelrestaurant.com/event/jazz-at-karamel-2/
URL:http://karamelrestaurant.com/event/jazz-at-karamel-2/
CONTACT:0208 829 8989
ORGANIZER:Jazz at Karamel
ATTACH;FMTTYPE="image/jpeg":http://storage.ning.com/topology/rest/1.0/
 file/get/2287306999?profile=original
ATTENDEE;ROLE=REQ-PARTICIPANT;PARTSTAT=ACCEPTED;RSVP=TRUE;CN="Events a
 t Karamel":https://bowesandbounds.org/profile/PhilSherman
END:VEVENT
END:VCALENDAR
