BEGIN:VCALENDAR
PRODID:NingEventWidget-v1
VERSION:2.0
METHOD:PUBLISH
BEGIN:VTIMEZONE
TZID:Europe/London
X-LIC-LOCATION:Europe/London
BEGIN:DAYLIGHT
TZOFFSETFROM:+0000
TZOFFSETTO:+0100
TZNAME:BST
DTSTART:19700329T010000
RRULE:FREQ=YEARLY;BYMONTH=3;BYDAY=-1SU
END:DAYLIGHT
BEGIN:STANDARD
TZOFFSETFROM:+0100
TZOFFSETTO:+0000
TZNAME:GMT
DTSTART:19701025T020000
RRULE:FREQ=YEARLY;BYMONTH=10;BYDAY=-1SU
END:STANDARD
END:VTIMEZONE
BEGIN:VEVENT
UID:6278630:Event:121009
DTSTAMP:20260424T234529Z
SUMMARY:Jazz at Karamel: Still Waters
DESCRIPTION:Still Waters is a group you don’t want to miss, led by i
 maginative Henry Lowther, these established musicians will be playing 
 his originals and the finest of the 1960’s jazz scene. Joined by som
 e of the most talented jazz performers on the UK scene, Pete Hurt, Bar
 ry Green, Dave Green and Stu Butterfield, Still Waters brings original
  composition and dynamic free improvisation.\nHenry Lowther (trumpet),
  Pete Hurt (tenor sax), Barry Green (piano),Dave Green (bass), Stu But
 terfield (drums)\n\nDOORS OPEN 7PM, MUSIC STARTS AT 8PM\n\nTICKETS £1
 0 OTD/£8 early bird at www.karamel.london\n\n\nFor more information v
 isit https://bowesandbounds.org/events/jazz-at-karamel-still-waters-2
DTSTART;TZID=Europe/London:20170209T190000
DTEND;TZID=Europe/London:20170209T230000
CATEGORIES:"'jazz'", "'jazz", at, "karamel'", "'music", "'music'", "ni
 ght'", "'karamel'", in, "haringey'"
LOCATION:Karamel
WEBSITE:http://www.karamel.london
URL:http://www.karamel.london
CONTACT:0208 365 7500
ORGANIZER:Karamel
ATTACH;FMTTYPE="image/jpeg":http://storage.ning.com/topology/rest/1.0/
 file/get/2287307876?profile=original
ATTENDEE;ROLE=REQ-PARTICIPANT;PARTSTAT=ACCEPTED;RSVP=TRUE;CN="Events a
 t Karamel":https://bowesandbounds.org/profile/PhilSherman
END:VEVENT
END:VCALENDAR
