BEGIN:VCALENDAR
PRODID:NingEventWidget-v1
VERSION:2.0
METHOD:PUBLISH
BEGIN:VTIMEZONE
TZID:Europe/London
X-LIC-LOCATION:Europe/London
BEGIN:DAYLIGHT
TZOFFSETFROM:+0000
TZOFFSETTO:+0100
TZNAME:BST
DTSTART:19700329T010000
RRULE:FREQ=YEARLY;BYMONTH=3;BYDAY=-1SU
END:DAYLIGHT
BEGIN:STANDARD
TZOFFSETFROM:+0100
TZOFFSETTO:+0000
TZNAME:GMT
DTSTART:19701025T020000
RRULE:FREQ=YEARLY;BYMONTH=10;BYDAY=-1SU
END:STANDARD
END:VTIMEZONE
BEGIN:VEVENT
UID:6278630:Event:121228
DTSTAMP:20260419T175438Z
SUMMARY:Jazz at Karamel: Still Waters
DESCRIPTION:A night of notable jazz, by talented musicians from the UK
  jazz scene tonight, paying tribute to the blue note era of jazz. Esta
 blished as one of the finest exponents of the era is Geoff Mason on tr
 ombone, acclaimed saxophonist Rob Townsend and veterans of Jazz at Kar
 amel Pete Whittaker on organ and Stu Butterfield on drums.Rob Townsend
  (tenor sax) Geoff Mason (trombone) Pete Whittaker (organ) Stu Butterf
 ield (drums)Doors open 7pm, Music starts 8pmTickets £8 earlybird from
  www.karamel.london or £10 on the door.\n\nFor more information visit
  https://bowesandbounds.org/events/jazz-at-karamel-still-waters-3
DTSTART;TZID=Europe/London:20170316T190000
DTEND;TZID=Europe/London:20170316T230000
CATEGORIES:"'jazz'", "'jazz", at, "karamel'", "'music", "'music'", "ni
 ght'", "'karamel'", in, "haringey'"
LOCATION:Karamel
WEBSITE:http://www.karamel.london
URL:http://www.karamel.london
CONTACT:0208 829 8989
ORGANIZER:Karamel
ATTACH;FMTTYPE="image/jpeg":http://storage.ning.com/topology/rest/1.0/
 file/get/2287317802?profile=original
ATTENDEE;ROLE=REQ-PARTICIPANT;PARTSTAT=ACCEPTED;RSVP=TRUE;CN="Events a
 t Karamel":https://bowesandbounds.org/profile/PhilSherman
END:VEVENT
END:VCALENDAR
