BEGIN:VCALENDAR
PRODID:NingEventWidget-v1
VERSION:2.0
METHOD:PUBLISH
BEGIN:VTIMEZONE
TZID:Europe/London
X-LIC-LOCATION:Europe/London
BEGIN:DAYLIGHT
TZOFFSETFROM:+0000
TZOFFSETTO:+0100
TZNAME:BST
DTSTART:19700329T010000
RRULE:FREQ=YEARLY;BYMONTH=3;BYDAY=-1SU
END:DAYLIGHT
BEGIN:STANDARD
TZOFFSETFROM:+0100
TZOFFSETTO:+0000
TZNAME:GMT
DTSTART:19701025T020000
RRULE:FREQ=YEARLY;BYMONTH=10;BYDAY=-1SU
END:STANDARD
END:VTIMEZONE
BEGIN:VEVENT
UID:6278630:Event:126055
DTSTAMP:20260424T160854Z
SUMMARY:Jazz at Karamel: Still Waters
DESCRIPTION:Still Waters is a group you don’t want to miss, led by i
 maginative Henry Lowther, this established group will be playing his o
 riginals and the finest of the 1960’s jazz scene. Joined by some of 
 the most talented jazz performers on the UK scene, Pete Hurt, Barry Gr
 een, Dave Green and Stu Butterfield, Still Waters brings original comp
 osition and dynamic free improvisation.\nHenry Lowther (trumpet), Pete
  Hurt (tenor), Barry Green (piano), Dave Green (bass), Paul Clarvis (d
 rums)\nTickets available at www.karamel.london\n\nFor more information
  visit https://bowesandbounds.org/events/jazz-at-karamel-still-waters-
 4
DTSTART;TZID=Europe/London:20171207T190000
DTEND;TZID=Europe/London:20171207T230000
CATEGORIES:"'jazz", at, "karamel'", "'jazz'", "'karamel'", "'music", "
 'music'", "'wood", "green'", in, wood, "'n22", "jazz'"
LOCATION:Karamel
WEBSITE:http://www.karamel.london
URL:http://www.karamel.london
CONTACT:0208 829 8989
ORGANIZER:Karamel
ATTACH;FMTTYPE="image/jpeg":http://storage.ning.com/topology/rest/1.0/
 file/get/2287307876?profile=original
ATTENDEE;ROLE=REQ-PARTICIPANT;PARTSTAT=ACCEPTED;RSVP=TRUE;CN="Events a
 t Karamel":https://bowesandbounds.org/profile/PhilSherman
END:VEVENT
END:VCALENDAR
