BEGIN:VCALENDAR
PRODID:NingEventWidget-v1
VERSION:2.0
METHOD:PUBLISH
BEGIN:VTIMEZONE
TZID:Europe/London
X-LIC-LOCATION:Europe/London
BEGIN:DAYLIGHT
TZOFFSETFROM:+0000
TZOFFSETTO:+0100
TZNAME:BST
DTSTART:19700329T010000
RRULE:FREQ=YEARLY;BYMONTH=3;BYDAY=-1SU
END:DAYLIGHT
BEGIN:STANDARD
TZOFFSETFROM:+0100
TZOFFSETTO:+0000
TZNAME:GMT
DTSTART:19701025T020000
RRULE:FREQ=YEARLY;BYMONTH=10;BYDAY=-1SU
END:STANDARD
END:VTIMEZONE
BEGIN:VEVENT
UID:6278630:Event:126226
DTSTAMP:20260424T180923Z
SUMMARY:Jazz at Karamel: The Great Wee Band
DESCRIPTION:The wee band is the quartet of trumpeter Henry Lowther, gu
 itarist Jim Mullen, bassist Dave Green and drummer Stu Butterfield, an
 d “great” is a fair description of it. They’re back at Kabaret a
 t Karamel after a packed night earlier this year, bringing their exper
 ienced and melodic tunes.\nFounded in 1999, the band has had two album
 s shortlisted for UK Jazz Record of the Year.\nWith half the band bein
 g local from Muswell Hill, it’s a fantastic opportunity to support o
 ur local, and nationally renown, talent.\n“Perfect small band jazz. 
 Only the very best and most mature musicians can achieve this degree o
 f simplicity, in which every tiny nuance counts” – Dave Gelly, The
  Observer\nTickets £8 at www.karamel.london £10 OTD\n\nFor more info
 rmation visit https://bowesandbounds.org/events/jazz-at-karamel-the-gr
 eat-wee-band-4
DTSTART;TZID=Europe/London:20171026T190000
DTEND;TZID=Europe/London:20171026T230000
CATEGORIES:"'jazz", at, "karamel'", "'n22", "jazz'", "'karamel'", "'ja
 zz'", "'music'", "'music"
LOCATION:Karamel
WEBSITE:http://www.karamel.london
URL:http://www.karamel.london
CONTACT:0208 829 8989
ORGANIZER:Karamel
ATTACH;FMTTYPE="image/jpeg":http://storage.ning.com/topology/rest/1.0/
 file/get/2287312727?profile=original
ATTENDEE;ROLE=REQ-PARTICIPANT;PARTSTAT=ACCEPTED;RSVP=TRUE;CN="Events a
 t Karamel":https://bowesandbounds.org/profile/PhilSherman
END:VEVENT
END:VCALENDAR
