BEGIN:VCALENDAR
PRODID:NingEventWidget-v1
VERSION:2.0
METHOD:PUBLISH
BEGIN:VTIMEZONE
TZID:Europe/London
X-LIC-LOCATION:Europe/London
BEGIN:DAYLIGHT
TZOFFSETFROM:+0000
TZOFFSETTO:+0100
TZNAME:BST
DTSTART:19700329T010000
RRULE:FREQ=YEARLY;BYMONTH=3;BYDAY=-1SU
END:DAYLIGHT
BEGIN:STANDARD
TZOFFSETFROM:+0100
TZOFFSETTO:+0000
TZNAME:GMT
DTSTART:19701025T020000
RRULE:FREQ=YEARLY;BYMONTH=10;BYDAY=-1SU
END:STANDARD
END:VTIMEZONE
BEGIN:VEVENT
UID:6278630:Event:114739
DTSTAMP:20260424T161044Z
SUMMARY:Jazz at Karamel: The Paul Clarvis Trio
DESCRIPTION:The Paul Clarvis Trio plays Duke Ellington tonight at Jazz
  at Karamel. One of the UK’s most requested session musicians and wh
 o’s playing can be heard on 100’s of films, Clarvis’s unique sty
 le of musicianship is heightened and brought further to life with Elli
 ngton’s classic style.\n\nJoining alongside him is Alcyona Mick, int
 ernational pianist known for her improvisational approach  and twist 
 on the contemporary and Stuart Hall, multi instrumentalist in both tra
 ditional and historical stringed instruments.\n\nAlcyona Mick (pno), S
 tuart Hall (gtr), Paul Clarvis (perc)\nDOORS OPEN 7PM, MUSIC STARTS AT
  8PM\nBUY YOUR TICKETS HERE!\n\nFor more information visit https://bow
 esandbounds.org/events/jazz-at-karamel-the-paul-clarvis-trio
DTSTART;TZID=Europe/London:20160922T190000
DTEND;TZID=Europe/London:20160922T230000
CATEGORIES:"'jazz'", "'jazz", "music'", in, "haringey'", at, "karamel'
 ", "'thursday", "jazz'", "'n22", "n22'", "'haringey'", "'haringey", "'
 music", "'karamel'", "'karamel"
LOCATION:Karamel
WEBSITE:http://karamelrestaurant.com/event/jazz-at-karamel-paul-clarvi
 s-trio/
URL:http://karamelrestaurant.com/event/jazz-at-karamel-paul-clarvis-tr
 io/
CONTACT:0208 829 8989
ORGANIZER:Jazz at Karamel
ATTACH;FMTTYPE="image/jpeg":http://storage.ning.com/topology/rest/1.0/
 file/get/2287310996?profile=original
ATTENDEE;ROLE=REQ-PARTICIPANT;PARTSTAT=ACCEPTED;RSVP=TRUE;CN="Events a
 t Karamel":https://bowesandbounds.org/profile/PhilSherman
END:VEVENT
END:VCALENDAR
