BEGIN:VCALENDAR
PRODID:NingEventWidget-v1
VERSION:2.0
METHOD:PUBLISH
BEGIN:VTIMEZONE
TZID:Europe/London
X-LIC-LOCATION:Europe/London
BEGIN:DAYLIGHT
TZOFFSETFROM:+0000
TZOFFSETTO:+0100
TZNAME:BST
DTSTART:19700329T010000
RRULE:FREQ=YEARLY;BYMONTH=3;BYDAY=-1SU
END:DAYLIGHT
BEGIN:STANDARD
TZOFFSETFROM:+0100
TZOFFSETTO:+0000
TZNAME:GMT
DTSTART:19701025T020000
RRULE:FREQ=YEARLY;BYMONTH=10;BYDAY=-1SU
END:STANDARD
END:VTIMEZONE
BEGIN:VEVENT
UID:6278630:Event:119145
DTSTAMP:20260423T040513Z
SUMMARY:Jazz at Karamel: Thelonious
DESCRIPTION:Taking inspiration from the Steve Lacy/Roswell Rudd School
  Days band from the early 1960s, Thelonious explore and celebrate Monk
 ’s centenary and repertoire with both childlike curiosity as well as
  forensic attention to detail.  Through collective learning of Monk’
 s unique catalogue of 70 tunes from the complete original recordings i
 n a slow process lasting several months of regular playing, probing, r
 ehearsing, reflecting, memorising, meditating, internalising and impro
 vising, Thelonious arrive at flexible interpretations of the material 
 that are as dangerous as anything in contemporary music, as well as co
 mforting, groovy and dreamy.  Martin has worked extensively with Monk 
 alumnus Paul Motian (Check out Martin’s ECM recording with him, Chan
 ge of Heart), and Hans has played and recorded with the original Monk 
 repertoire guru Steve Lacy (London Ear). Calum is one of the most melo
 dic and cutting-edge rhythm players active on the London jazz scene to
 day, perfects partners in the exploration of Monk’s music.  TICKETS:
  £10 / £8 Early Bird limited at www.karamel.london  Martin Speake (a
 lto sax), Hans Koller (euphonium), Calum Gourlay (bass), James Maddren
  (dms)\n\nFor more information visit https://bowesandbounds.org/events
 /jazz-at-karamel-thelonious
DTSTART;TZID=Europe/London:20170112T190000
DTEND;TZID=Europe/London:20170112T230000
CATEGORIES:"'jazz'", "'jazz", at, "karamel'", "'haringey", "jazz'", in
 , "london'", "'wood", "green'", "'events'", "'events", wood, "'music",
  "night'"
LOCATION:Karamel
WEBSITE:http://www.karamel.london
URL:http://www.karamel.london
CONTACT:0208 829 8989
ORGANIZER;CN="Events at Karamel":https://bowesandbounds.org/profile/Ph
 ilSherman
ATTACH;FMTTYPE="image/jpeg":http://storage.ning.com/topology/rest/1.0/
 file/get/2287314918?profile=original
ATTENDEE;ROLE=REQ-PARTICIPANT;PARTSTAT=ACCEPTED;RSVP=TRUE;CN="Events a
 t Karamel":https://bowesandbounds.org/profile/PhilSherman
END:VEVENT
END:VCALENDAR
