BEGIN:VCALENDAR
PRODID:NingEventWidget-v1
VERSION:2.0
METHOD:PUBLISH
BEGIN:VTIMEZONE
TZID:Europe/London
X-LIC-LOCATION:Europe/London
BEGIN:DAYLIGHT
TZOFFSETFROM:+0000
TZOFFSETTO:+0100
TZNAME:BST
DTSTART:19700329T010000
RRULE:FREQ=YEARLY;BYMONTH=3;BYDAY=-1SU
END:DAYLIGHT
BEGIN:STANDARD
TZOFFSETFROM:+0100
TZOFFSETTO:+0000
TZNAME:GMT
DTSTART:19701025T020000
RRULE:FREQ=YEARLY;BYMONTH=10;BYDAY=-1SU
END:STANDARD
END:VTIMEZONE
BEGIN:VEVENT
UID:6278630:Event:131201
DTSTAMP:20260421T123749Z
SUMMARY:Jazz at Karamel: Then and Now
DESCRIPTION:Chris Biscoe (Baritone), Allison Neale (Alto), Colin Oxley
  (Guitar), Dave Whitford (Bass), Matt Fishwick (Drums)New explorations
  of the freewheeling, wonderfully melodic interpretations of standard 
 material recorded 50 years ago by Gerry Mulligan and Paul Desmond on B
 lues in Time and Two of a Mind, this new band evokes the spirit of the
 se classic recordings while giving free reign to the personalities of 
 the musicians.The band’s first CD, Then and Now, has received great 
 reviews and the group is establishing a national reputation for its fr
 esh and spontaneous approach to established jazz repertoire.The band h
 ave performed at French Festivals with Didier Levallet, will be tourin
 g with Inner Space, and have arranged gigs with Blythe Spirits and The
  Wobbly Rail 5. They have produced a CD with Roger Turner, and will be
  gigging around England with Two of a Mind, with the performances in W
 elwyn on March 25th being recorded live for broadcast on Jazz Now, BBC
  Radio 3, scheduled for July 23rd 2018.\"...perfect rapport, and a pos
 itively uncanny grasp of this elusive idiom\", Dave Gelly, The Observe
 r\"...theirs is music that reaches the parts that other forms, more br
 ash perhaps, simply don't.\", Peter Vacher, JazzwiseTickets available 
 on the door at £10 per person. Doors open at 6pm. Live music starts a
 t 8pm – 2 sets of an hour with a short interval.Kitchen is open from
  7pm until 10pm.Come early and enjoy our Happy Hour Buy One Get One Ha
 lf Price on drinks offer 5-7pm. Mention BOWESANDBOUNDS at the Bar!\n\n
 For more information visit https://bowesandbounds.org/events/jazz-at-k
 aramel-then-and-now
DTSTART;TZID=Europe/London:20180531T190000
DTEND;TZID=Europe/London:20180531T233000
CATEGORIES:jazz, live, music, haringey, vegan, family-friendly
LOCATION:Karamel London N22
WEBSITE:http://www.karamel.london
URL:http://www.karamel.london
CONTACT:020 8829 8989
ORGANIZER;CN="Alan Drummer":https://bowesandbounds.org/profile/AlanDru
 mmer
ATTACH;FMTTYPE="image/jpeg":http://storage.ning.com/topology/rest/1.0/
 file/get/2287325927?profile=original
ATTENDEE;ROLE=REQ-PARTICIPANT;PARTSTAT=ACCEPTED;RSVP=TRUE;CN="Alan Dru
 mmer":https://bowesandbounds.org/profile/AlanDrummer
END:VEVENT
END:VCALENDAR
