BEGIN:VCALENDAR
PRODID:NingEventWidget-v1
VERSION:2.0
METHOD:PUBLISH
BEGIN:VTIMEZONE
TZID:Europe/London
X-LIC-LOCATION:Europe/London
BEGIN:DAYLIGHT
TZOFFSETFROM:+0000
TZOFFSETTO:+0100
TZNAME:BST
DTSTART:19700329T010000
RRULE:FREQ=YEARLY;BYMONTH=3;BYDAY=-1SU
END:DAYLIGHT
BEGIN:STANDARD
TZOFFSETFROM:+0100
TZOFFSETTO:+0000
TZNAME:GMT
DTSTART:19701025T020000
RRULE:FREQ=YEARLY;BYMONTH=10;BYDAY=-1SU
END:STANDARD
END:VTIMEZONE
BEGIN:VEVENT
UID:6278630:Event:136327
DTSTAMP:20260422T104100Z
SUMMARY:Jazz at Karamel - Tomorrow's Warriors
DESCRIPTION:Francisco Garcia de Paredes - guitarDonovan Hafner - saxop
 honeHarry Pearce - bassHarry Ling - drumsFrancisco Garcia de Paredes i
 s a young jazz guitarist from North London currently studying at the G
 uildhall School of Music. Francisco draws influence from musicians lik
 e Jimmy Raney, Hank Mobley and Lee Morgan as well as more contemporary
  musicians such as Kurt Rosenwinkel, Mike Moreno and Mark Turner. His 
 dedication to the tradition of jazz as well as well as the more contem
 porary side of jazz has allowed Francisco to develop his own sound and
  blend hard bop lines with contemporary vocabulary, voicings and harmo
 ny. Only in his first year of studies at Conservatoire level, Francisc
 o is already working around the country, regularly gigging with a wide
  range of musicians. He is continuing to broaden his musical range and
  develop his own unique voice in the music.\nMusic 8pm, Doors 7pm.\nht
 tps://www.musicglue.com/karamel/events/2019-05-30-tomorrows-warriors-k
 aramel\n\nFor more information visit https://bowesandbounds.org/events
 /jazz-at-karamel-tomorrow-s-warriors
DTSTART;TZID=Europe/London:20190530T190000
DTEND;TZID=Europe/London:20190530T230000
CATEGORIES:jazz, music
LOCATION:Karamel restaurant
WEBSITE:https://www.musicglue.com/karamel/events/2019-05-30-tomorrows-
 warriors-karamel
URL:https://www.musicglue.com/karamel/events/2019-05-30-tomorrows-warr
 iors-karamel
CONTACT:
ORGANIZER:Collage Artspaces
ATTACH;FMTTYPE="image/jpeg":https://storage.ning.com/topology/rest/1.0
 /file/get/2662915284?profile=original
ATTENDEE;ROLE=REQ-PARTICIPANT;PARTSTAT=ACCEPTED;RSVP=TRUE;CN="Collage 
 Artspaces":https://bowesandbounds.org/profile/Collage_Arts
END:VEVENT
END:VCALENDAR
