BEGIN:VCALENDAR
PRODID:NingEventWidget-v1
VERSION:2.0
METHOD:PUBLISH
BEGIN:VTIMEZONE
TZID:Europe/London
X-LIC-LOCATION:Europe/London
BEGIN:DAYLIGHT
TZOFFSETFROM:+0000
TZOFFSETTO:+0100
TZNAME:BST
DTSTART:19700329T010000
RRULE:FREQ=YEARLY;BYMONTH=3;BYDAY=-1SU
END:DAYLIGHT
BEGIN:STANDARD
TZOFFSETFROM:+0100
TZOFFSETTO:+0000
TZNAME:GMT
DTSTART:19701025T020000
RRULE:FREQ=YEARLY;BYMONTH=10;BYDAY=-1SU
END:STANDARD
END:VTIMEZONE
BEGIN:VEVENT
UID:6278630:Event:115037
DTSTAMP:20260425T022428Z
SUMMARY:Jazz at Karamel: Two of a Mind
DESCRIPTION:Exploring afresh the freewheeling, wonderfully melodic int
 erpretations of standard material recorded by Paul Desmond and Gerry M
 ulligan, this new band promises to evoke the spirit of these classic r
 ecordings while giving free reign to the personalities of the five mus
 icians.\n\nAllison Neale (alt sax), Chris Biscoe (bari sax), Colin Oxl
 ey (gtr), Steve Watts (bass), Stu Butterfield (dms)\nDOORS OPEN 7PM, M
 USIC STARTS 8PM\nBUY YOUR TICKETS HERE!\n\nFor more information visit 
 https://bowesandbounds.org/events/jazz-at-karamel-two-of-a-mind-1
DTSTART;TZID=Europe/London:20161013T190000
DTEND;TZID=Europe/London:20161013T230000
CATEGORIES:"'jazz'", "'jazz", "music'", in, "haringey'", at, "karamel'
 ", "'thursday", "jazz'", "'n22", "n22'", "'haringey'", "'haringey", "'
 music", "'karamel'", "'karamel"
LOCATION:Karamel
WEBSITE:http://karamelrestaurant.com/event/jazz-at-karamel-two-of-a-mi
 nd-3/
URL:http://karamelrestaurant.com/event/jazz-at-karamel-two-of-a-mind-3
 /
CONTACT:0208 829 8989
ORGANIZER:Jazz at Karamel
ATTACH;FMTTYPE="image/jpeg":http://storage.ning.com/topology/rest/1.0/
 file/get/2287311358?profile=original
ATTENDEE;ROLE=REQ-PARTICIPANT;PARTSTAT=ACCEPTED;RSVP=TRUE;CN="Events a
 t Karamel":https://bowesandbounds.org/profile/PhilSherman
END:VEVENT
END:VCALENDAR
