BEGIN:VCALENDAR
PRODID:NingEventWidget-v1
VERSION:2.0
METHOD:PUBLISH
BEGIN:VTIMEZONE
TZID:Europe/London
X-LIC-LOCATION:Europe/London
BEGIN:DAYLIGHT
TZOFFSETFROM:+0000
TZOFFSETTO:+0100
TZNAME:BST
DTSTART:19700329T010000
RRULE:FREQ=YEARLY;BYMONTH=3;BYDAY=-1SU
END:DAYLIGHT
BEGIN:STANDARD
TZOFFSETFROM:+0100
TZOFFSETTO:+0000
TZNAME:GMT
DTSTART:19701025T020000
RRULE:FREQ=YEARLY;BYMONTH=10;BYDAY=-1SU
END:STANDARD
END:VTIMEZONE
BEGIN:VEVENT
UID:6278630:Event:114941
DTSTAMP:20260420T215213Z
SUMMARY:Jazz at Karamel: Zoe Francis-Jim Mullen Band
DESCRIPTION:Exceptionally talented London based jazz vocalist Zoe Fran
 cis presents her own distinct take on the Great American Songbook, wit
 h her band Jim Mullen (guitar), Tristram Maillot(drums) and Dave Green
  (bass).\nZoe learned her craft while living in New York, attending B
 arry Harris workshops and singing in small Manhattan venues alongside 
 great musicians such as Harry Allen and Joe Cohn. Forming a band with 
 Jim Mullen, a multi-award winning guitarist with a unique jazz style a
 nd sound, the two are now a famed duo and given Jim’s unparalleled m
 usicianship are leading lights in the UK Jazz scene.\n‘…she retain
 s an almost diffident charm and a vocal quality that seems to hark bac
 k to band singers of the thirties and forties’ – londonjazznews.co
 m\nDOORS OPEN 7PM, MUSIC STARTS AT 8PM\nGET YOUR TICKETS HERE!\n\n\nFo
 r more information visit https://bowesandbounds.org/events/jazz-at-kar
 amel-zoe-francis-jim-mullen-band
DTSTART;TZID=Europe/London:20160915T190000
DTEND;TZID=Europe/London:20160915T230000
CATEGORIES:"'jazz'", "'jazz", "music'", in, "haringey'", at, "karamel'
 ", "'thursday", "jazz'", "'n22", "n22'", "'haringey'", "'haringey", "'
 music", "'karamel'", "'karamel"
LOCATION:Karamel
WEBSITE:http://karamelrestaurant.com/event/jazz-at-karamel-zoe-francis
 -jim-mullen-band/
URL:http://karamelrestaurant.com/event/jazz-at-karamel-zoe-francis-jim
 -mullen-band/
CONTACT:0208 829 8989
ORGANIZER:Jazz at Karamel
ATTACH;FMTTYPE="image/jpeg":http://storage.ning.com/topology/rest/1.0/
 file/get/2287310099?profile=original
ATTENDEE;ROLE=REQ-PARTICIPANT;PARTSTAT=ACCEPTED;RSVP=TRUE;CN="Events a
 t Karamel":https://bowesandbounds.org/profile/PhilSherman
END:VEVENT
END:VCALENDAR
