BEGIN:VCALENDAR
PRODID:NingEventWidget-v1
VERSION:2.0
METHOD:PUBLISH
BEGIN:VTIMEZONE
TZID:Europe/London
X-LIC-LOCATION:Europe/London
BEGIN:DAYLIGHT
TZOFFSETFROM:+0000
TZOFFSETTO:+0100
TZNAME:BST
DTSTART:19700329T010000
RRULE:FREQ=YEARLY;BYMONTH=3;BYDAY=-1SU
END:DAYLIGHT
BEGIN:STANDARD
TZOFFSETFROM:+0100
TZOFFSETTO:+0000
TZNAME:GMT
DTSTART:19701025T020000
RRULE:FREQ=YEARLY;BYMONTH=10;BYDAY=-1SU
END:STANDARD
END:VTIMEZONE
BEGIN:VEVENT
UID:6278630:Event:252228
DTSTAMP:20260424T055132Z
SUMMARY:Jazz 'n' Carols
DESCRIPTION:Join us at Muswell Hill Methodist Church for Jazz 'n' Caro
 ls â€“ a musical celebration of Christmas with a jazz twist.\nAll are 
 welcome at our Christmas events. Thereâ€™s no need to book and if youâ
 €™re not sure about anything, thereâ€™ll be stewards around to help on
  the day, or use our contact page to ring or email us in advance.\nWe 
 have baby changing, quiet areas if anyone (young or old!) gets overwhe
 lmed, and free refreshments at most services.\nWhoever you are, whatev
 er you believe â€“ youâ€™re welcome.\n> See all our Advent and Christm
 as services\n\nFor more information visit https://bowesandbounds.org/e
 vents/jazz-n-carols-1
DTSTART;TZID=Europe/London:20251207T153000
DTEND;TZID=Europe/London:20251207T163000
CATEGORIES:concert, church, family, music, jazz
LOCATION:Muswell Hill Methodist Church
WEBSITE:https://mhmc.org.uk/
URL:https://mhmc.org.uk/
CONTACT:020 8365 2466
ORGANIZER;CN="Penny Woods":https://bowesandbounds.org/profile/PennyWoo
 ds
ATTACH;FMTTYPE="image/jpeg":https://storage.ning.com/topology/rest/1.0
 /file/get/31000127687?profile=original
ATTENDEE;ROLE=REQ-PARTICIPANT;PARTSTAT=ACCEPTED;RSVP=TRUE;CN="Penny Wo
 ods":https://bowesandbounds.org/profile/PennyWoods
END:VEVENT
END:VCALENDAR
