BEGIN:VCALENDAR
PRODID:NingEventWidget-v1
VERSION:2.0
METHOD:PUBLISH
BEGIN:VTIMEZONE
TZID:Europe/London
X-LIC-LOCATION:Europe/London
BEGIN:DAYLIGHT
TZOFFSETFROM:+0000
TZOFFSETTO:+0100
TZNAME:BST
DTSTART:19700329T010000
RRULE:FREQ=YEARLY;BYMONTH=3;BYDAY=-1SU
END:DAYLIGHT
BEGIN:STANDARD
TZOFFSETFROM:+0100
TZOFFSETTO:+0000
TZNAME:GMT
DTSTART:19701025T020000
RRULE:FREQ=YEARLY;BYMONTH=10;BYDAY=-1SU
END:STANDARD
END:VTIMEZONE
BEGIN:VEVENT
UID:6278630:Event:234961
DTSTAMP:20260422T155124Z
SUMMARY:Jim Causley at Bowes Park Folk Club plus Phoebe Rees and BP si
 ngers
DESCRIPTION:How to watch our Zoom folk club: Just visit our Facebook
  page on the night and click on the latest post. You don't need a Fac
 ebook account to view, but if you do have one, please log in and send 
 us your comments.The post goes live a little before 8pm. Click on the
  most recent post on the Facebook page and you should be fine. \nJim 
 Causley:\nSix times BBC Radio 2 Folk Award nominee*BBC Radio 2 Folk Aw
 ards ‘Singer of the Year’ 2017*“The finest singer of his generat
 ion” Mojo Magazine“A voice in a million” Geoff Lakeman \nMore t
 han simply a folk-singer, multi award winning singer-songwriter, music
 ian and proud Devonian Jim Causley is an all-round entertainer and dur
 ing the past decade Causley has been nominated no less than six times 
 for a BBC Radio 2 Folk Award. In 2017 he was nominated as “Singer o
 f the Year” at the BBC Radio 2 Folk Awards, he won the Spiral Earth 
 Singer of the Year award in 2014, presented his own folk music show on
  BBC Radio Devon... The list of Jim's achievements goes on...Since the
  release of his debut album in 2005, Causley’s unique voice and pers
 ona have helped him become one of the most well-loved and respected fi
 gures of today’s contemporary roots and folk scene. A prolific colla
 borator, Causley is hugely admired for his work with iconic groups The
  Devil’s Interval and Mawkin:Causley as well as playing, touring and
  recording alongside Waterson:Carthy, John McCusker, Eddie Reader, Gra
 ham Coxson, Shirley Collins, Michael Morpurgo, Show of Hands, Kate Rus
 by, David Rotheray of Beautiful South fame and many more. He was descr
 ibed by Mojo Magazine as “the finest singer of his generation”.Vid
 eos - Jim Causley \nPhoebe Rees:\n“…she mesmerised... with her b
 eautiful playing and singing of some well travelled Scottish folk tune
 s!”\nSongbound\n“…one of the finest prospects in British folk mu
 sic…“\nFATEA MagazinePhoebe Rees is a musician and songwriter from
  Oswestry. Influenced by a diverse range of musical genres and culture
 s, she predominantly combines elements of Celtic, English and American
  Folk traditions into her music making. Drawing on inspiration from he
 r early years in the Scottish Highlands, experiences as a classical vi
 ola player studying in Edinburgh and London, and subsequent travels th
 roughout the rest of the British Isles, Europe, South America and Indi
 a; she performs her own compositions along with interpretations of mat
 erial by other artists close to her heart. Phoebe sings and accompanie
 s herself mostly on the fiddle, viola and guitar.Videos - Phoebe Rees 
 | Hear all her latest songs\n\nFor more information visit https://bowe
 sandbounds.org/events/jim-causley-at-bowes-park-folk-club-plus-phoebe-
 rees-and-bp
DTSTART;TZID=Europe/London:20210401T200000
DTEND;TZID=Europe/London:20210401T220000
CATEGORIES:folk, club
LOCATION:https://www.facebook.com/BowesParkFolkClub to watch the eveni
 ng's session.
WEBSITE:
URL:
CONTACT:
ORGANIZER;CN="Anne Heagney":https://bowesandbounds.org/profile/AnneHea
 gney
ATTACH;FMTTYPE="image/jpeg":https://storage.ning.com/topology/rest/1.0
 /file/get/8720277659?profile=original
ATTENDEE;ROLE=REQ-PARTICIPANT;PARTSTAT=ACCEPTED;RSVP=TRUE;CN="Anne Hea
 gney":https://bowesandbounds.org/profile/AnneHeagney
END:VEVENT
END:VCALENDAR
