BEGIN:VCALENDAR
PRODID:NingEventWidget-v1
VERSION:2.0
METHOD:PUBLISH
BEGIN:VTIMEZONE
TZID:Europe/London
X-LIC-LOCATION:Europe/London
BEGIN:DAYLIGHT
TZOFFSETFROM:+0000
TZOFFSETTO:+0100
TZNAME:BST
DTSTART:19700329T010000
RRULE:FREQ=YEARLY;BYMONTH=3;BYDAY=-1SU
END:DAYLIGHT
BEGIN:STANDARD
TZOFFSETFROM:+0100
TZOFFSETTO:+0000
TZNAME:GMT
DTSTART:19701025T020000
RRULE:FREQ=YEARLY;BYMONTH=10;BYDAY=-1SU
END:STANDARD
END:VTIMEZONE
BEGIN:VEVENT
UID:6278630:Event:239904
DTSTAMP:20260421T194432Z
SUMMARY:Join us for an evening of top quality music with guitarist Car
 l Orr
DESCRIPTION:An Evening With Carl Orr\nDoors 7.00pm for a 7.30 start at
  the All Good Bookshop, 35 Turnpike Lane, N8 0EP. £10.\n\n\nGuitarist
 /composer Carl Orr has been a professional musician since 1980, and ha
 s performed and recorded with some of the finest musicians in the worl
 d including (ex-Miles Davis drummer) Billy Cobham, George Duke and The
  Philharmonia Orchestra and has backed many pop artists including Rois
 in Murphy, Lulu and Anastacia. He was the guitarist on the 2018 UK tou
 r of Sting’s “The Last Ship”. \nA prolific composer, Berklee Co
 llege Of Music-educated Carl has recorded nine albums of mostly origin
 al compositions. Carl’s music is featured in films and television pr
 ogrammes all over the world. In 2017 he was inducted into the South A
 ustralian Music Hall Of Fame.\nCarl has performed at Ronnie Scott’s 
 Jazz Club over 300 times where he has jammed onstage with the likes of
  Nigel Kennedy, Mike Stern and Marcus Miller, and he has played at man
 y of the world’s leading jazz festivals including Montreux, North Se
 a and Nice. \nCarl will present a programme of original pieces, jazz 
 standards and vintage pop classics on acoustic and electric guitars, e
 nhanced at times by nifty delay and looping effects. \n£10. Book her
 e: https://allgoodbookshop.co.uk/order-books-1/ols/products/an-evenin
 g-with-carl-orr or available at the door.\n \n\n\n\nFor more informat
 ion visit https://bowesandbounds.org/events/join-us-for-an-evening-of-
 top-quality-music-with-guitarist-carl
DTSTART;TZID=Europe/London:20220506T193000
DTEND;TZID=Europe/London:20220506T220000
CATEGORIES:"live music", "carl orr"
LOCATION:All Good Bookshop, 35 Turnpike Lane N8 0EP
WEBSITE:https://allgoodbookshop.co.uk/special-events
URL:https://allgoodbookshop.co.uk/special-events
CONTACT:020 8341 0783
ORGANIZER;CN="c p shortall":https://bowesandbounds.org/profile/3j09t7w
 iq9lkd
ATTACH;FMTTYPE="image/jpeg":https://storage.ning.com/topology/rest/1.0
 /file/get/10438366854?profile=original
ATTENDEE;ROLE=REQ-PARTICIPANT;PARTSTAT=ACCEPTED;RSVP=TRUE;CN="c p shor
 tall":https://bowesandbounds.org/profile/3j09t7wiq9lkd
END:VEVENT
END:VCALENDAR
