BEGIN:VCALENDAR
PRODID:NingEventWidget-v1
VERSION:2.0
METHOD:PUBLISH
BEGIN:VTIMEZONE
TZID:Europe/London
X-LIC-LOCATION:Europe/London
BEGIN:DAYLIGHT
TZOFFSETFROM:+0000
TZOFFSETTO:+0100
TZNAME:BST
DTSTART:19700329T010000
RRULE:FREQ=YEARLY;BYMONTH=3;BYDAY=-1SU
END:DAYLIGHT
BEGIN:STANDARD
TZOFFSETFROM:+0100
TZOFFSETTO:+0000
TZNAME:GMT
DTSTART:19701025T020000
RRULE:FREQ=YEARLY;BYMONTH=10;BYDAY=-1SU
END:STANDARD
END:VTIMEZONE
BEGIN:VEVENT
UID:6278630:Event:112108
DTSTAMP:20260422T035521Z
SUMMARY:Joint health Overview and Scrutiny
DESCRIPTION:\n\n\n\n\n\nFor more information visit https://bowesandbou
 nds.org/events/joint-health-overview-and-scrutiny
DTSTART;TZID=Europe/London:20160513T100000
DTEND;TZID=Europe/London:20160513T130000
CATEGORIES:nhs
LOCATION:Civic Centre, Silver Street Enfield EN1 3ES
WEBSITE:https://governance.enfield.gov.uk/ieListDocuments.aspx?CId=597
 &MId=9672
URL:https://governance.enfield.gov.uk/ieListDocuments.aspx?CId=597&MId
 =9672
CONTACT:
ORGANIZER;CN="Donald Smith":https://bowesandbounds.org/profile/DonaldS
 mith
ATTACH;FMTTYPE="image/jpeg":
ATTENDEE;ROLE=REQ-PARTICIPANT;PARTSTAT=ACCEPTED;RSVP=TRUE;CN="Donald S
 mith":https://bowesandbounds.org/profile/DonaldSmith
END:VEVENT
END:VCALENDAR
