BEGIN:VCALENDAR
PRODID:NingEventWidget-v1
VERSION:2.0
METHOD:PUBLISH
BEGIN:VTIMEZONE
TZID:Europe/London
X-LIC-LOCATION:Europe/London
BEGIN:DAYLIGHT
TZOFFSETFROM:+0000
TZOFFSETTO:+0100
TZNAME:BST
DTSTART:19700329T010000
RRULE:FREQ=YEARLY;BYMONTH=3;BYDAY=-1SU
END:DAYLIGHT
BEGIN:STANDARD
TZOFFSETFROM:+0100
TZOFFSETTO:+0000
TZNAME:GMT
DTSTART:19701025T020000
RRULE:FREQ=YEARLY;BYMONTH=10;BYDAY=-1SU
END:STANDARD
END:VTIMEZONE
BEGIN:VEVENT
UID:6278630:Event:40808
DTSTAMP:20260426T053451Z
SUMMARY:Jubilee Pin The Tail
DESCRIPTION:Jubilee Weekend fun for kids.\nSunday 3rd June, 11-12pm\nT
 he kids will be more used to pinning the tail on the donkey but will t
 hey be as good at pinning the tail on one of the Queen’s very own co
 rgies, nattily painting by our friend Katie for a Jubilee twist on a c
 lassic game!\nOne turn per child and the closest tail wins a bottle of
  delicious cake pop for Jubilee celebration sweet energy!\nIt’s 20p 
 to enter and all proceeds go to the Bowes Park Community Association.\
 n\nFor more information visit https://bowesandbounds.org/events/jubile
 e-pin-the-tail
DTSTART;TZID=Europe/London:20120603T110000
DTEND;TZID=Europe/London:20120603T120000
CATEGORIES:jubilee, fun
LOCATION:The Step
WEBSITE:http://www.thestep.co.uk/
URL:http://www.thestep.co.uk/
CONTACT:020 3302 2412
ORGANIZER;CN="Nell Riches":https://bowesandbounds.org/profile/NellRich
 es
ATTACH;FMTTYPE="image/jpeg":http://storage.ning.com/topology/rest/1.0/
 file/get/2287234246?profile=original
ATTENDEE;ROLE=REQ-PARTICIPANT;PARTSTAT=ACCEPTED;RSVP=TRUE;CN="Nell Ric
 hes":https://bowesandbounds.org/profile/NellRiches
END:VEVENT
END:VCALENDAR
