BEGIN:VCALENDAR
PRODID:NingEventWidget-v1
VERSION:2.0
METHOD:PUBLISH
BEGIN:VTIMEZONE
TZID:Europe/London
X-LIC-LOCATION:Europe/London
BEGIN:DAYLIGHT
TZOFFSETFROM:+0000
TZOFFSETTO:+0100
TZNAME:BST
DTSTART:19700329T010000
RRULE:FREQ=YEARLY;BYMONTH=3;BYDAY=-1SU
END:DAYLIGHT
BEGIN:STANDARD
TZOFFSETFROM:+0100
TZOFFSETTO:+0000
TZNAME:GMT
DTSTART:19701025T020000
RRULE:FREQ=YEARLY;BYMONTH=10;BYDAY=-1SU
END:STANDARD
END:VTIMEZONE
BEGIN:VEVENT
UID:6278630:Event:73509
DTSTAMP:20260425T193753Z
SUMMARY:Junior cricket coaching
DESCRIPTION:Alexandra Park Cricket Club continues to look for new play
 ers of all abilities. Anyone from 6 to 15 are welcome. No experience r
 equired and all kit supplied.\nSessions run from 10.00 this Sunday at 
 Heartlands School. In March the group will split so that U9's and U11'
 s train at 9.00 and then U13's and U15's at 10.00.\n\nFor more informa
 tion visit https://bowesandbounds.org/events/junior-cricket-coaching
DTSTART;TZID=Europe/London:20140223T210000
DTEND;TZID=Europe/London:20140223T230000
CATEGORIES:youth, sports
LOCATION:Heartlands School Sports Hall
WEBSITE:https://maps.google.com/maps?q=London+N22+7ST,+United+Kingdom&
 hl=en&sll=37.0625,-95.677068&sspn=59.379225,114.169922&oq=n22+7st&t=h&
 hnear=London+N22+7ST,+United+Kingdom&z=16
URL:https://maps.google.com/maps?q=London+N22+7ST,+United+Kingdom&hl=e
 n&sll=37.0625,-95.677068&sspn=59.379225,114.169922&oq=n22+7st&t=h&hnea
 r=London+N22+7ST,+United+Kingdom&z=16
CONTACT:07980 898 121
ORGANIZER;CN="Alistair Wilson":https://bowesandbounds.org/profile/Alis
 tairWilson
ATTACH;FMTTYPE="image/jpeg":http://storage.ning.com/topology/rest/1.0/
 file/get/2287248400?profile=original
ATTENDEE;ROLE=REQ-PARTICIPANT;PARTSTAT=ACCEPTED;RSVP=TRUE;CN="Alistair
  Wilson":https://bowesandbounds.org/profile/AlistairWilson
END:VEVENT
END:VCALENDAR
